BEGIN:VCALENDAR
VERSION:2.0
PRODID:-//Pryor Public Schools, Pryor Montana - ECPv6.15.20//NONSGML v1.0//EN
CALSCALE:GREGORIAN
METHOD:PUBLISH
X-ORIGINAL-URL:https://pryorwarriors.org
X-WR-CALDESC:Events for Pryor Public Schools, Pryor Montana
REFRESH-INTERVAL;VALUE=DURATION:PT1H
X-Robots-Tag:noindex
X-PUBLISHED-TTL:PT1H
BEGIN:VTIMEZONE
TZID:UTC
BEGIN:STANDARD
TZOFFSETFROM:+0000
TZOFFSETTO:+0000
TZNAME:UTC
DTSTART:20250101T000000
END:STANDARD
END:VTIMEZONE
BEGIN:VEVENT
DTSTART;TZID=UTC:20260303T170000
DTEND;TZID=UTC:20260303T180000
DTSTAMP:20260422T101225
CREATED:20251103T151847Z
LAST-MODIFIED:20251103T151847Z
UID:2736-1772557200-1772560800@pryorwarriors.org
SUMMARY:JH BOYS BB @ BUSBY
DESCRIPTION:NP B SQUAD / A SQUAD 5 PM
URL:https://pryorwarriors.org/event/jh-boys-bb-busby/
END:VEVENT
BEGIN:VEVENT
DTSTART;TZID=UTC:20260305T160000
DTEND;TZID=UTC:20260305T180000
DTSTAMP:20260422T101225
CREATED:20251103T152031Z
LAST-MODIFIED:20251103T152031Z
UID:2738-1772726400-1772733600@pryorwarriors.org
SUMMARY:JH BOYS BB @ PRYOR VS WYOLA
DESCRIPTION:B SQUAD 4 PM/ A SQUAD 5 PM
URL:https://pryorwarriors.org/event/jh-boys-bb-pryor-vs-wyola/
END:VEVENT
BEGIN:VEVENT
DTSTART;VALUE=DATE:20260306
DTEND;VALUE=DATE:20260307
DTSTAMP:20260422T101225
CREATED:20250529T175556Z
LAST-MODIFIED:20250529T175556Z
UID:2236-1772755200-1772841599@pryorwarriors.org
SUMMARY:No School
DESCRIPTION:
URL:https://pryorwarriors.org/event/no-school-30/
END:VEVENT
BEGIN:VEVENT
DTSTART;VALUE=DATE:20260306
DTEND;VALUE=DATE:20260307
DTSTAMP:20260422T101225
CREATED:20250529T175723Z
LAST-MODIFIED:20250529T175723Z
UID:2238-1772755200-1772841599@pryorwarriors.org
SUMMARY:No school
DESCRIPTION:
URL:https://pryorwarriors.org/event/no-school-31/
END:VEVENT
BEGIN:VEVENT
DTSTART;VALUE=DATE:20260311
DTEND;VALUE=DATE:20260315
DTSTAMP:20260422T101225
CREATED:20251121T202444Z
LAST-MODIFIED:20251121T202444Z
UID:2810-1773187200-1773532799@pryorwarriors.org
SUMMARY:HS BB STATE C TOURNAMENT - MISSOULA MT
DESCRIPTION:
URL:https://pryorwarriors.org/event/hs-bb-state-c-tournament-missoula-mt/
END:VEVENT
BEGIN:VEVENT
DTSTART;VALUE=DATE:20260313
DTEND;VALUE=DATE:20260314
DTSTAMP:20260422T101225
CREATED:20250529T175750Z
LAST-MODIFIED:20250529T175750Z
UID:2240-1773360000-1773446399@pryorwarriors.org
SUMMARY:No school
DESCRIPTION:
URL:https://pryorwarriors.org/event/no-school-32/
END:VEVENT
BEGIN:VEVENT
DTSTART;VALUE=DATE:20260320
DTEND;VALUE=DATE:20260321
DTSTAMP:20260422T101225
CREATED:20250529T175810Z
LAST-MODIFIED:20250529T175810Z
UID:2242-1773964800-1774051199@pryorwarriors.org
SUMMARY:No School
DESCRIPTION:
URL:https://pryorwarriors.org/event/no-school-33/
END:VEVENT
BEGIN:VEVENT
DTSTART;VALUE=DATE:20260324
DTEND;VALUE=DATE:20260325
DTSTAMP:20260422T101225
CREATED:20250529T183536Z
LAST-MODIFIED:20250529T183536Z
UID:2282-1774310400-1774396799@pryorwarriors.org
SUMMARY:End of 3rd Quarter
DESCRIPTION:
URL:https://pryorwarriors.org/event/end-of-3rd-quarter-2/
END:VEVENT
BEGIN:VEVENT
DTSTART;TZID=UTC:20260325T160000
DTEND;TZID=UTC:20260325T170000
DTSTAMP:20260422T101225
CREATED:20250929T180912Z
LAST-MODIFIED:20250929T180912Z
UID:2649-1774454400-1774458000@pryorwarriors.org
SUMMARY:COMMUNITY CONNECTION MEETING
DESCRIPTION:
URL:https://pryorwarriors.org/event/community-connection-meeting-2/
END:VEVENT
BEGIN:VEVENT
DTSTART;VALUE=DATE:20260327
DTEND;VALUE=DATE:20260328
DTSTAMP:20260422T101225
CREATED:20250529T175831Z
LAST-MODIFIED:20250529T175831Z
UID:2244-1774569600-1774655999@pryorwarriors.org
SUMMARY:No School
DESCRIPTION:
URL:https://pryorwarriors.org/event/no-school-34/
END:VEVENT
BEGIN:VEVENT
DTSTART;TZID=UTC:20260331T140000
DTEND;TZID=UTC:20260331T160000
DTSTAMP:20260422T101225
CREATED:20250529T183256Z
LAST-MODIFIED:20250529T183256Z
UID:2272-1774965600-1774972800@pryorwarriors.org
SUMMARY:Parent/Teacher Conferences
DESCRIPTION:
URL:https://pryorwarriors.org/event/parent-teacher-conferences-5/
END:VEVENT
BEGIN:VEVENT
DTSTART;TZID=UTC:20260331T160000
DTEND;TZID=UTC:20260331T170000
DTSTAMP:20260422T101225
CREATED:20250529T183326Z
LAST-MODIFIED:20250529T183326Z
UID:2274-1774972800-1774976400@pryorwarriors.org
SUMMARY:COMMUNITY GRANT MEETING/DINNER
DESCRIPTION:
URL:https://pryorwarriors.org/event/community-grant-meeting-dinner/
END:VEVENT
END:VCALENDAR