BEGIN:VCALENDAR
VERSION:2.0
PRODID:-//Pryor Public Schools, Pryor Montana - ECPv6.15.20//NONSGML v1.0//EN
CALSCALE:GREGORIAN
METHOD:PUBLISH
X-ORIGINAL-URL:https://pryorwarriors.org
X-WR-CALDESC:Events for Pryor Public Schools, Pryor Montana
REFRESH-INTERVAL;VALUE=DURATION:PT1H
X-Robots-Tag:noindex
X-PUBLISHED-TTL:PT1H
BEGIN:VTIMEZONE
TZID:UTC
BEGIN:STANDARD
TZOFFSETFROM:+0000
TZOFFSETTO:+0000
TZNAME:UTC
DTSTART:20240101T000000
END:STANDARD
END:VTIMEZONE
BEGIN:VEVENT
DTSTART;TZID=UTC:20251107T150000
DTEND;TZID=UTC:20251107T190000
DTSTAMP:20260422T154516
CREATED:20251028T182824Z
LAST-MODIFIED:20251028T182824Z
UID:2680-1762527600-1762542000@pryorwarriors.org
SUMMARY:JH Boys/Girls Basketball @ Home VS RPR
DESCRIPTION:3PM\, 4PM\, 5PM\, 6PM
URL:https://pryorwarriors.org/event/jh-boys-girls-basketball-home-vs-rpr/
END:VEVENT
BEGIN:VEVENT
DTSTART;TZID=UTC:20251110T150000
DTEND;TZID=UTC:20251110T190000
DTSTAMP:20260422T154516
CREATED:20251028T182908Z
LAST-MODIFIED:20251028T182908Z
UID:2682-1762786800-1762801200@pryorwarriors.org
SUMMARY:JH Girls/Boys Basketball @ Bridger
DESCRIPTION:3PM\, 4PM\, 5PM\, 6PM
URL:https://pryorwarriors.org/event/jh-girls-boys-basketball-bridger/
END:VEVENT
BEGIN:VEVENT
DTSTART;VALUE=DATE:20251111
DTEND;VALUE=DATE:20251112
DTSTAMP:20260422T154516
CREATED:20250908T184123Z
LAST-MODIFIED:20250908T184123Z
UID:2510-1762819200-1762905599@pryorwarriors.org
SUMMARY:NO SCHOOL -Veteran's Day
DESCRIPTION:
URL:https://pryorwarriors.org/event/no-school-veterans-day/
END:VEVENT
BEGIN:VEVENT
DTSTART;TZID=UTC:20251112T150000
DTEND;TZID=UTC:20251112T190000
DTSTAMP:20260422T154516
CREATED:20251028T182948Z
LAST-MODIFIED:20251028T182948Z
UID:2684-1762959600-1762974000@pryorwarriors.org
SUMMARY:JH Girls/Boys Basketball @ Home vs Custer/Hysham
DESCRIPTION:3PM\, 4PM\, 5PM\, 6PM
URL:https://pryorwarriors.org/event/jh-girls-boys-basketball-home-vs-custer-hysham/
END:VEVENT
BEGIN:VEVENT
DTSTART;VALUE=DATE:20251115
DTEND;VALUE=DATE:20251116
DTSTAMP:20260422T154516
CREATED:20251028T183024Z
LAST-MODIFIED:20251028T183024Z
UID:2686-1763164800-1763251199@pryorwarriors.org
SUMMARY:JH Girls/Boys Basketball Tri- Valley Tournament @ CUSTER
DESCRIPTION:TBD
URL:https://pryorwarriors.org/event/jh-girls-boys-basketball-tri-valley-tournament-custer/
END:VEVENT
BEGIN:VEVENT
DTSTART;VALUE=DATE:20251120
DTEND;VALUE=DATE:20251121
DTSTAMP:20260422T154516
CREATED:20251121T190111Z
LAST-MODIFIED:20251121T190111Z
UID:2766-1763596800-1763683199@pryorwarriors.org
SUMMARY:FIRST DAY OF HS BASKETBALL PRACTICE
DESCRIPTION:
URL:https://pryorwarriors.org/event/first-day-of-hs-basketball-practice/
END:VEVENT
BEGIN:VEVENT
DTSTART;TZID=UTC:20251120T160000
DTEND;TZID=UTC:20251120T180000
DTSTAMP:20260422T154516
CREATED:20251031T195610Z
LAST-MODIFIED:20251113T161023Z
UID:2692-1763654400-1763661600@pryorwarriors.org
SUMMARY:JH GIRLS BB @ WYOLA
DESCRIPTION:B SQUAD 4 PM / A SQUAD 5 PM
URL:https://pryorwarriors.org/event/jh-girls-bb-wyola/
END:VEVENT
BEGIN:VEVENT
DTSTART;TZID=UTC:20251124T160000
DTEND;TZID=UTC:20251124T180000
DTSTAMP:20260422T154516
CREATED:20251031T195706Z
LAST-MODIFIED:20251118T175654Z
UID:2694-1764000000-1764007200@pryorwarriors.org
SUMMARY:JH GIRLS BB @ HOME VS LODGE GRASS
DESCRIPTION:B SQUAD 4 PM/ A SQUAD 5 PM
URL:https://pryorwarriors.org/event/jh-girls-bb-home-vs-lodge-grass/
END:VEVENT
BEGIN:VEVENT
DTSTART;TZID=UTC:20251124T160000
DTEND;TZID=UTC:20251124T180000
DTSTAMP:20260422T154516
CREATED:20251031T195758Z
LAST-MODIFIED:20251118T175733Z
UID:2696-1764000000-1764007200@pryorwarriors.org
SUMMARY:CANCELLED - TO BE RESCHEDULED JH GIRLS BB @ HOME VS ST. CHARLES
DESCRIPTION:B SQUAD 4 PM/ A SQUAD 5 PM
URL:https://pryorwarriors.org/event/jh-girls-bb-home-vs-st-charles/
END:VEVENT
BEGIN:VEVENT
DTSTART;TZID=UTC:20251126T103000
DTEND;TZID=UTC:20251126T130000
DTSTAMP:20260422T154516
CREATED:20251028T183109Z
LAST-MODIFIED:20251118T175842Z
UID:2688-1764153000-1764162000@pryorwarriors.org
SUMMARY:CLAN DAY
DESCRIPTION:
URL:https://pryorwarriors.org/event/clan-day-4/
END:VEVENT
BEGIN:VEVENT
DTSTART;TZID=UTC:20251126T130000
DTEND;TZID=UTC:20251126T130000
DTSTAMP:20260422T154516
CREATED:20251118T175917Z
LAST-MODIFIED:20251118T175917Z
UID:2763-1764162000-1764162000@pryorwarriors.org
SUMMARY:EARLY RELEASE 1 PM
DESCRIPTION:
URL:https://pryorwarriors.org/event/early-release-1-pm/
END:VEVENT
BEGIN:VEVENT
DTSTART;VALUE=DATE:20251127
DTEND;VALUE=DATE:20251129
DTSTAMP:20260422T154516
CREATED:20250529T173550Z
LAST-MODIFIED:20250529T173550Z
UID:2216-1764201600-1764374399@pryorwarriors.org
SUMMARY:Thanksgiving Break- No School
DESCRIPTION:
URL:https://pryorwarriors.org/event/thanksgiving-break-no-school/
END:VEVENT
END:VCALENDAR