BEGIN:VCALENDAR
VERSION:2.0
PRODID:-//Pryor Public Schools, Pryor Montana - ECPv6.15.20//NONSGML v1.0//EN
CALSCALE:GREGORIAN
METHOD:PUBLISH
X-ORIGINAL-URL:https://pryorwarriors.org
X-WR-CALDESC:Events for Pryor Public Schools, Pryor Montana
REFRESH-INTERVAL;VALUE=DURATION:PT1H
X-Robots-Tag:noindex
X-PUBLISHED-TTL:PT1H
BEGIN:VTIMEZONE
TZID:UTC
BEGIN:STANDARD
TZOFFSETFROM:+0000
TZOFFSETTO:+0000
TZNAME:UTC
DTSTART:20250101T000000
END:STANDARD
END:VTIMEZONE
BEGIN:VEVENT
DTSTART;VALUE=DATE:20260604
DTEND;VALUE=DATE:20260605
DTSTAMP:20260422T222037
CREATED:20250529T180404Z
LAST-MODIFIED:20250529T180404Z
UID:2264-1780531200-1780617599@pryorwarriors.org
SUMMARY:Last Day of School
DESCRIPTION:
URL:https://pryorwarriors.org/event/last-day-of-school-3/
END:VEVENT
BEGIN:VEVENT
DTSTART;VALUE=DATE:20260604
DTEND;VALUE=DATE:20260605
DTSTAMP:20260422T222037
CREATED:20250529T183559Z
LAST-MODIFIED:20250529T183559Z
UID:2284-1780531200-1780617599@pryorwarriors.org
SUMMARY:End of 4th Quarter
DESCRIPTION:
URL:https://pryorwarriors.org/event/end-of-4th-quarter-2/
END:VEVENT
BEGIN:VEVENT
DTSTART;VALUE=DATE:20260605
DTEND;VALUE=DATE:20260606
DTSTAMP:20260422T222037
CREATED:20250529T180428Z
LAST-MODIFIED:20250529T180428Z
UID:2266-1780617600-1780703999@pryorwarriors.org
SUMMARY:PIR- GRADES & CHECK OUT FOR TEACHERS
DESCRIPTION:
URL:https://pryorwarriors.org/event/pir-grades-check-out-for-teachers/
END:VEVENT
END:VCALENDAR