BEGIN:VCALENDAR
VERSION:2.0
PRODID:-//Pryor Public Schools, Pryor Montana - ECPv6.15.20//NONSGML v1.0//EN
CALSCALE:GREGORIAN
METHOD:PUBLISH
X-ORIGINAL-URL:https://pryorwarriors.org
X-WR-CALDESC:Events for Pryor Public Schools, Pryor Montana
REFRESH-INTERVAL;VALUE=DURATION:PT1H
X-Robots-Tag:noindex
X-PUBLISHED-TTL:PT1H
BEGIN:VTIMEZONE
TZID:UTC
BEGIN:STANDARD
TZOFFSETFROM:+0000
TZOFFSETTO:+0000
TZNAME:UTC
DTSTART:20250101T000000
END:STANDARD
END:VTIMEZONE
BEGIN:VEVENT
DTSTART;VALUE=DATE:20260424
DTEND;VALUE=DATE:20260425
DTSTAMP:20260422T220205
CREATED:20250529T175945Z
LAST-MODIFIED:20250529T175945Z
UID:2252-1776988800-1777075199@pryorwarriors.org
SUMMARY:No School
DESCRIPTION:
URL:https://pryorwarriors.org/event/no-school-38/
END:VEVENT
BEGIN:VEVENT
DTSTART;VALUE=DATE:20260501
DTEND;VALUE=DATE:20260502
DTSTAMP:20260422T220205
CREATED:20250529T180223Z
LAST-MODIFIED:20250529T180223Z
UID:2254-1777593600-1777679999@pryorwarriors.org
SUMMARY:No School
DESCRIPTION:
URL:https://pryorwarriors.org/event/no-school-39/
END:VEVENT
BEGIN:VEVENT
DTSTART;TZID=UTC:20260506T160000
DTEND;TZID=UTC:20260506T170000
DTSTAMP:20260422T220205
CREATED:20250929T180946Z
LAST-MODIFIED:20250929T180946Z
UID:2653-1778083200-1778086800@pryorwarriors.org
SUMMARY:PARENT SURVEY & ENGAGMENT POLICY REVIEW
DESCRIPTION:
URL:https://pryorwarriors.org/event/parent-survey-engagment-policy-review/
END:VEVENT
BEGIN:VEVENT
DTSTART;VALUE=DATE:20260508
DTEND;VALUE=DATE:20260509
DTSTAMP:20260422T220205
CREATED:20250529T180243Z
LAST-MODIFIED:20250529T180243Z
UID:2256-1778198400-1778284799@pryorwarriors.org
SUMMARY:No School
DESCRIPTION:
URL:https://pryorwarriors.org/event/no-school-40/
END:VEVENT
BEGIN:VEVENT
DTSTART;VALUE=DATE:20260515
DTEND;VALUE=DATE:20260516
DTSTAMP:20260422T220205
CREATED:20250529T180300Z
LAST-MODIFIED:20250529T180300Z
UID:2258-1778803200-1778889599@pryorwarriors.org
SUMMARY:No School
DESCRIPTION:
URL:https://pryorwarriors.org/event/no-school-41/
END:VEVENT
BEGIN:VEVENT
DTSTART;VALUE=DATE:20260522
DTEND;VALUE=DATE:20260523
DTSTAMP:20260422T220205
CREATED:20250529T180319Z
LAST-MODIFIED:20250529T180319Z
UID:2260-1779408000-1779494399@pryorwarriors.org
SUMMARY:No School
DESCRIPTION:
URL:https://pryorwarriors.org/event/no-school-42/
END:VEVENT
BEGIN:VEVENT
DTSTART;VALUE=DATE:20260529
DTEND;VALUE=DATE:20260530
DTSTAMP:20260422T220205
CREATED:20250529T180339Z
LAST-MODIFIED:20250529T180339Z
UID:2262-1780012800-1780099199@pryorwarriors.org
SUMMARY:No School
DESCRIPTION:
URL:https://pryorwarriors.org/event/no-school-43/
END:VEVENT
BEGIN:VEVENT
DTSTART;VALUE=DATE:20260529
DTEND;VALUE=DATE:20260530
DTSTAMP:20260422T220205
CREATED:20250529T183430Z
LAST-MODIFIED:20250529T183430Z
UID:2276-1780012800-1780099199@pryorwarriors.org
SUMMARY:PIR- NO SCHOOL
DESCRIPTION:
URL:https://pryorwarriors.org/event/pir-no-school-4/
END:VEVENT
BEGIN:VEVENT
DTSTART;VALUE=DATE:20260604
DTEND;VALUE=DATE:20260605
DTSTAMP:20260422T220205
CREATED:20250529T180404Z
LAST-MODIFIED:20250529T180404Z
UID:2264-1780531200-1780617599@pryorwarriors.org
SUMMARY:Last Day of School
DESCRIPTION:
URL:https://pryorwarriors.org/event/last-day-of-school-3/
END:VEVENT
BEGIN:VEVENT
DTSTART;VALUE=DATE:20260604
DTEND;VALUE=DATE:20260605
DTSTAMP:20260422T220205
CREATED:20250529T183559Z
LAST-MODIFIED:20250529T183559Z
UID:2284-1780531200-1780617599@pryorwarriors.org
SUMMARY:End of 4th Quarter
DESCRIPTION:
URL:https://pryorwarriors.org/event/end-of-4th-quarter-2/
END:VEVENT
BEGIN:VEVENT
DTSTART;VALUE=DATE:20260605
DTEND;VALUE=DATE:20260606
DTSTAMP:20260422T220205
CREATED:20250529T180428Z
LAST-MODIFIED:20250529T180428Z
UID:2266-1780617600-1780703999@pryorwarriors.org
SUMMARY:PIR- GRADES & CHECK OUT FOR TEACHERS
DESCRIPTION:
URL:https://pryorwarriors.org/event/pir-grades-check-out-for-teachers/
END:VEVENT
END:VCALENDAR