BEGIN:VCALENDAR
VERSION:2.0
PRODID:-//Pryor Public Schools, Pryor Montana - ECPv6.15.20//NONSGML v1.0//EN
CALSCALE:GREGORIAN
METHOD:PUBLISH
X-WR-CALNAME:Pryor Public Schools, Pryor Montana
X-ORIGINAL-URL:https://pryorwarriors.org
X-WR-CALDESC:Events for Pryor Public Schools, Pryor Montana
REFRESH-INTERVAL;VALUE=DURATION:PT1H
X-Robots-Tag:noindex
X-PUBLISHED-TTL:PT1H
BEGIN:VTIMEZONE
TZID:UTC
BEGIN:STANDARD
TZOFFSETFROM:+0000
TZOFFSETTO:+0000
TZNAME:UTC
DTSTART:20240101T000000
END:STANDARD
END:VTIMEZONE
BEGIN:VEVENT
DTSTART;TZID=UTC:20250913T153000
DTEND;TZID=UTC:20250913T180000
DTSTAMP:20260423T025015
CREATED:20250826T163503Z
LAST-MODIFIED:20250902T145532Z
UID:2441-1757777400-1757786400@pryorwarriors.org
SUMMARY:Volleyball Custer-Hysham(JH)(V) @Plenty Coups H.S.
DESCRIPTION:RESCHEDULED to 3:30 PM  ( was 2 pm)
URL:https://pryorwarriors.org/event/volleyball-custer-hyshamjhv-plenty-coups-h-s/
END:VEVENT
BEGIN:VEVENT
DTSTART;TZID=UTC:20250913T140000
DTEND;TZID=UTC:20250913T170000
DTSTAMP:20260423T025015
CREATED:20250911T194215Z
LAST-MODIFIED:20250911T194215Z
UID:2516-1757772000-1757782800@pryorwarriors.org
SUMMARY:JH VOLLEYBALL @ HOME VS CUSTER-HYSHAM
DESCRIPTION:
URL:https://pryorwarriors.org/event/jh-volleyball-home-vs-custer-hysham/
END:VEVENT
BEGIN:VEVENT
DTSTART;TZID=UTC:20250912T180000
DTEND;TZID=UTC:20250912T210000
DTSTAMP:20260423T025015
CREATED:20250812T153805Z
LAST-MODIFIED:20250911T195122Z
UID:2384-1757700000-1757710800@pryorwarriors.org
SUMMARY:Football @ BUSBY
DESCRIPTION:
URL:https://pryorwarriors.org/event/football-hobson-moore/
END:VEVENT
BEGIN:VEVENT
DTSTART;TZID=UTC:20250912T160000
DTEND;TZID=UTC:20250912T170000
DTSTAMP:20260423T025015
CREATED:20250911T194150Z
LAST-MODIFIED:20250911T194150Z
UID:2514-1757692800-1757696400@pryorwarriors.org
SUMMARY:JH Volleyball @HOME VS WYOLA
DESCRIPTION:
URL:https://pryorwarriors.org/event/jh-volleyball-home-vs-wyola/
END:VEVENT
BEGIN:VEVENT
DTSTART;TZID=UTC:20250912T160000
DTEND;TZID=UTC:20250912T170000
DTSTAMP:20260423T025015
CREATED:20250903T193545Z
LAST-MODIFIED:20250911T195021Z
UID:2493-1757692800-1757696400@pryorwarriors.org
SUMMARY:CANCELLED : FLAG FOOTBALL- @ Home VS Absarokee
DESCRIPTION:
URL:https://pryorwarriors.org/event/flag-football-home-vs-absarokee/
END:VEVENT
BEGIN:VEVENT
DTSTART;TZID=UTC:20250911T163000
DTEND;TZID=UTC:20250911T173000
DTSTAMP:20260423T025015
CREATED:20250903T210949Z
LAST-MODIFIED:20250903T210949Z
UID:2499-1757608200-1757611800@pryorwarriors.org
SUMMARY:SENIOR PARENT MEETING
DESCRIPTION:Please come and discuss graduation details and responsibilities.
URL:https://pryorwarriors.org/event/senior-parent-meeting/
END:VEVENT
BEGIN:VEVENT
DTSTART;TZID=UTC:20250909T100000
DTEND;TZID=UTC:20250909T140000
DTSTAMP:20260423T025015
CREATED:20250819T180948Z
LAST-MODIFIED:20250826T164616Z
UID:2405-1757412000-1757426400@pryorwarriors.org
SUMMARY:XC Roundup invite ( Pine ridge Golf Course)
DESCRIPTION:
URL:https://pryorwarriors.org/event/xc-roundup-invite-pine-ridge-golf-course/
END:VEVENT
BEGIN:VEVENT
DTSTART;VALUE=DATE:20250909
DTEND;VALUE=DATE:20250911
DTSTAMP:20260423T025015
CREATED:20250903T170728Z
LAST-MODIFIED:20250903T171118Z
UID:2488-1757376000-1757548799@pryorwarriors.org
SUMMARY:OSHA TRAINING - STUDENTS
DESCRIPTION:
URL:https://pryorwarriors.org/event/osha-training-students/
END:VEVENT
BEGIN:VEVENT
DTSTART;TZID=UTC:20250908T190000
DTEND;TZID=UTC:20250908T210000
DTSTAMP:20260423T025015
CREATED:20250903T164323Z
LAST-MODIFIED:20250903T164323Z
UID:2484-1757358000-1757365200@pryorwarriors.org
SUMMARY:Flag Football @ Senior HS
DESCRIPTION:
URL:https://pryorwarriors.org/event/flag-football-senior-hs/
END:VEVENT
BEGIN:VEVENT
DTSTART;TZID=UTC:20250906T130000
DTEND;TZID=UTC:20250906T150000
DTSTAMP:20260423T025015
CREATED:20250903T164213Z
LAST-MODIFIED:20250903T164213Z
UID:2480-1757163600-1757170800@pryorwarriors.org
SUMMARY:FLAG FOOTBALL- in FRAZER\, MT
DESCRIPTION:
URL:https://pryorwarriors.org/event/flag-football-in-frazer-mt/
END:VEVENT
BEGIN:VEVENT
DTSTART;TZID=UTC:20250906T130000
DTEND;TZID=UTC:20250906T150000
DTSTAMP:20260423T025015
CREATED:20250812T153735Z
LAST-MODIFIED:20250903T162409Z
UID:2382-1757163600-1757170800@pryorwarriors.org
SUMMARY:CANCELLED : Football @ Heart butte
DESCRIPTION:
URL:https://pryorwarriors.org/event/football-heart-butte/
END:VEVENT
BEGIN:VEVENT
DTSTART;TZID=UTC:20250905T150000
DTEND;TZID=UTC:20250905T153000
DTSTAMP:20260423T025015
CREATED:20250903T164250Z
LAST-MODIFIED:20250903T164250Z
UID:2482-1757084400-1757086200@pryorwarriors.org
SUMMARY:Flag Football leave for Frazer MT
DESCRIPTION:
URL:https://pryorwarriors.org/event/flag-football-leave-for-frazer-mt/
END:VEVENT
BEGIN:VEVENT
DTSTART;TZID=UTC:20250905T100000
DTEND;TZID=UTC:20250905T140000
DTSTAMP:20260423T025015
CREATED:20250819T180911Z
LAST-MODIFIED:20250826T164656Z
UID:2403-1757066400-1757080800@pryorwarriors.org
SUMMARY:XC- Hardin Invite ( Crow\, Gas- Cap)
DESCRIPTION:
URL:https://pryorwarriors.org/event/xc-hardin-invite-crow-gas-cap/
END:VEVENT
BEGIN:VEVENT
DTSTART;TZID=UTC:20250904T160000
DTEND;TZID=UTC:20250904T210000
DTSTAMP:20260423T025015
CREATED:20250826T163433Z
LAST-MODIFIED:20250826T163433Z
UID:2439-1757001600-1757019600@pryorwarriors.org
SUMMARY:Volleyball Absarokee (JH)(JV)(V)  @Absarokee H.S.
DESCRIPTION:4pm\, 5pm & 6:30pm
URL:https://pryorwarriors.org/event/volleyball-absarokee-jhjvv-absarokee-h-s/
END:VEVENT
BEGIN:VEVENT
DTSTART;VALUE=DATE:20250901
DTEND;VALUE=DATE:20250902
DTSTAMP:20260423T025015
CREATED:20250529T173030Z
LAST-MODIFIED:20250529T173030Z
UID:2210-1756684800-1756771199@pryorwarriors.org
SUMMARY:LABOR DAY- NO SCHOOL
DESCRIPTION:
URL:https://pryorwarriors.org/event/labor-day-no-school-3/
END:VEVENT
BEGIN:VEVENT
DTSTART;VALUE=DATE:20250827
DTEND;VALUE=DATE:20250828
DTSTAMP:20260423T025015
CREATED:20250529T173011Z
LAST-MODIFIED:20250529T173011Z
UID:2208-1756252800-1756339199@pryorwarriors.org
SUMMARY:FIRST DAY OF SCHOOL
DESCRIPTION:
URL:https://pryorwarriors.org/event/first-day-of-school-3/
END:VEVENT
BEGIN:VEVENT
DTSTART;VALUE=DATE:20250825
DTEND;VALUE=DATE:20250827
DTSTAMP:20260423T025015
CREATED:20250529T172947Z
LAST-MODIFIED:20250529T172947Z
UID:2206-1756080000-1756252799@pryorwarriors.org
SUMMARY:PIR DAYS -NO SCHOOL
DESCRIPTION:
URL:https://pryorwarriors.org/event/pir-days-no-school/
END:VEVENT
BEGIN:VEVENT
DTSTART;VALUE=DATE:20250606
DTEND;VALUE=DATE:20250607
DTSTAMP:20260423T025015
CREATED:20241107T171739Z
LAST-MODIFIED:20241107T171739Z
UID:1764-1749168000-1749254399@pryorwarriors.org
SUMMARY:PIR- GRADES AND CHECK OUT FOR TEACHERS
DESCRIPTION:
URL:https://pryorwarriors.org/event/pir-grades-and-check-out-for-teachers/
END:VEVENT
BEGIN:VEVENT
DTSTART;VALUE=DATE:20250605
DTEND;VALUE=DATE:20250606
DTSTAMP:20260423T025015
CREATED:20241107T171705Z
LAST-MODIFIED:20241107T171705Z
UID:1762-1749081600-1749167999@pryorwarriors.org
SUMMARY:LAST DAY OF SCHOOL
DESCRIPTION:
URL:https://pryorwarriors.org/event/last-day-of-school-2/
END:VEVENT
BEGIN:VEVENT
DTSTART;VALUE=DATE:20250605
DTEND;VALUE=DATE:20250606
DTSTAMP:20260423T025015
CREATED:20240903T180552Z
LAST-MODIFIED:20240903T180552Z
UID:1638-1749081600-1749167999@pryorwarriors.org
SUMMARY:END OF 4TH QUARTER
DESCRIPTION:
URL:https://pryorwarriors.org/event/end-of-4th-quarter/
END:VEVENT
BEGIN:VEVENT
DTSTART;VALUE=DATE:20250530
DTEND;VALUE=DATE:20250531
DTSTAMP:20260423T025015
CREATED:20250428T154324Z
LAST-MODIFIED:20250428T154324Z
UID:2067-1748563200-1748649599@pryorwarriors.org
SUMMARY:NO SCHOOL
DESCRIPTION:
URL:https://pryorwarriors.org/event/no-school-21/
END:VEVENT
BEGIN:VEVENT
DTSTART;TZID=UTC:20250527T110000
DTEND;TZID=UTC:20250527T120000
DTSTAMP:20260423T025015
CREATED:20250428T153327Z
LAST-MODIFIED:20250428T154246Z
UID:2042-1748343600-1748347200@pryorwarriors.org
SUMMARY:8th Grade Graduation
DESCRIPTION:
URL:https://pryorwarriors.org/event/8th-grade-graduation/
END:VEVENT
BEGIN:VEVENT
DTSTART;VALUE=DATE:20250526
DTEND;VALUE=DATE:20250527
DTSTAMP:20260423T025015
CREATED:20241107T171545Z
LAST-MODIFIED:20241107T171545Z
UID:1760-1748217600-1748303999@pryorwarriors.org
SUMMARY:NO SCHOOL- MEMORIAL DAY
DESCRIPTION:
URL:https://pryorwarriors.org/event/no-school-memorial-day/
END:VEVENT
BEGIN:VEVENT
DTSTART;TZID=UTC:20250525T140000
DTEND;TZID=UTC:20250525T150000
DTSTAMP:20260423T025015
CREATED:20250428T153259Z
LAST-MODIFIED:20250428T153259Z
UID:2040-1748181600-1748185200@pryorwarriors.org
SUMMARY:High School Graduation
DESCRIPTION:
URL:https://pryorwarriors.org/event/high-school-graduation/
END:VEVENT
BEGIN:VEVENT
DTSTART;VALUE=DATE:20250523
DTEND;VALUE=DATE:20250524
DTSTAMP:20260423T025015
CREATED:20241107T171526Z
LAST-MODIFIED:20241107T171526Z
UID:1758-1747958400-1748044799@pryorwarriors.org
SUMMARY:NO SCHOOL
DESCRIPTION:
URL:https://pryorwarriors.org/event/no-school-20/
END:VEVENT
BEGIN:VEVENT
DTSTART;VALUE=DATE:20250522
DTEND;VALUE=DATE:20250525
DTSTAMP:20260423T025015
CREATED:20250428T154557Z
LAST-MODIFIED:20250428T154557Z
UID:2069-1747872000-1748131199@pryorwarriors.org
SUMMARY:HS TRACK - MHSA STATE B&C TRACK MEET MISSOULA
DESCRIPTION:
URL:https://pryorwarriors.org/event/hs-track-mhsa-state-bc-track-meet-missoula/
END:VEVENT
BEGIN:VEVENT
DTSTART;VALUE=DATE:20250516
DTEND;VALUE=DATE:20250517
DTSTAMP:20260423T025015
CREATED:20241107T171514Z
LAST-MODIFIED:20241107T171514Z
UID:1756-1747353600-1747439999@pryorwarriors.org
SUMMARY:NO SCHOOL
DESCRIPTION:
URL:https://pryorwarriors.org/event/no-school-19/
END:VEVENT
BEGIN:VEVENT
DTSTART;VALUE=DATE:20250515
DTEND;VALUE=DATE:20250516
DTSTAMP:20260423T025015
CREATED:20250428T154628Z
LAST-MODIFIED:20250428T154628Z
UID:2071-1747267200-1747353599@pryorwarriors.org
SUMMARY:HS TRACK - MHSA SOUTHERN B/C DIVISIONAL - LAUREL
DESCRIPTION:
URL:https://pryorwarriors.org/event/hs-track-mhsa-southern-b-c-divisional-laurel/
END:VEVENT
BEGIN:VEVENT
DTSTART;VALUE=DATE:20250514
DTEND;VALUE=DATE:20250515
DTSTAMP:20260423T025015
CREATED:20250428T171128Z
LAST-MODIFIED:20250428T171128Z
UID:2077-1747180800-1747267199@pryorwarriors.org
SUMMARY:Arrow Creek battle celebration day
DESCRIPTION:
URL:https://pryorwarriors.org/event/arrow-creek-battle-celebration-day/
END:VEVENT
BEGIN:VEVENT
DTSTART;VALUE=DATE:20250509
DTEND;VALUE=DATE:20250510
DTSTAMP:20260423T025015
CREATED:20250428T154738Z
LAST-MODIFIED:20250428T154738Z
UID:2075-1746748800-1746835199@pryorwarriors.org
SUMMARY:MHSA 5C/6C District Meet Laurel
DESCRIPTION:
URL:https://pryorwarriors.org/event/mhsa-5c-6c-district-meet-laurel/
END:VEVENT
END:VCALENDAR