BEGIN:VCALENDAR
VERSION:2.0
PRODID:-//Pryor Public Schools, Pryor Montana - ECPv6.15.20//NONSGML v1.0//EN
CALSCALE:GREGORIAN
METHOD:PUBLISH
X-WR-CALNAME:Pryor Public Schools, Pryor Montana
X-ORIGINAL-URL:https://pryorwarriors.org
X-WR-CALDESC:Events for Pryor Public Schools, Pryor Montana
REFRESH-INTERVAL;VALUE=DURATION:PT1H
X-Robots-Tag:noindex
X-PUBLISHED-TTL:PT1H
BEGIN:VTIMEZONE
TZID:UTC
BEGIN:STANDARD
TZOFFSETFROM:+0000
TZOFFSETTO:+0000
TZNAME:UTC
DTSTART:20240101T000000
END:STANDARD
END:VTIMEZONE
BEGIN:VEVENT
DTSTART;TZID=UTC:20250926T100000
DTEND;TZID=UTC:20250926T140000
DTSTAMP:20260422T225702
CREATED:20250917T141705Z
LAST-MODIFIED:20250917T141715Z
UID:2600-1758880800-1758895200@pryorwarriors.org
SUMMARY:NATIVE AMERICAN DAY
DESCRIPTION:
URL:https://pryorwarriors.org/event/native-american-day/
END:VEVENT
BEGIN:VEVENT
DTSTART;TZID=UTC:20250926T160000
DTEND;TZID=UTC:20250926T180000
DTSTAMP:20260422T225702
CREATED:20250819T181050Z
LAST-MODIFIED:20250917T142051Z
UID:2409-1758902400-1758909600@pryorwarriors.org
SUMMARY:XC- Plenty Coup Invite
DESCRIPTION:
URL:https://pryorwarriors.org/event/xc-melstone-invite-melstone-mt/
END:VEVENT
BEGIN:VEVENT
DTSTART;VALUE=DATE:20250927
DTEND;VALUE=DATE:20250928
DTSTAMP:20260422T225702
CREATED:20250903T193723Z
LAST-MODIFIED:20250903T193723Z
UID:2497-1758931200-1759017599@pryorwarriors.org
SUMMARY:FLAG FOOTBALL- “C” SEEDING (DOUBLE ELIMINATION) @ABSAROKEE
DESCRIPTION:
URL:https://pryorwarriors.org/event/flag-football-c-seeding-double-elimination-absarokee/
END:VEVENT
BEGIN:VEVENT
DTSTART;TZID=UTC:20250927T100000
DTEND;TZID=UTC:20250927T140000
DTSTAMP:20260422T225702
CREATED:20250826T163738Z
LAST-MODIFIED:20250908T150633Z
UID:2449-1758967200-1758981600@pryorwarriors.org
SUMMARY:Volleyball Roberts (JV)(V) @Roberts
DESCRIPTION:10am
URL:https://pryorwarriors.org/event/volleyball-roberts-jvv-roberts/
END:VEVENT
BEGIN:VEVENT
DTSTART;TZID=UTC:20251001T160000
DTEND;TZID=UTC:20251001T170000
DTSTAMP:20260422T225702
CREATED:20250904T201401Z
LAST-MODIFIED:20250904T201401Z
UID:2503-1759334400-1759338000@pryorwarriors.org
SUMMARY:Volleyball - JH  @ Lame Deer
DESCRIPTION:
URL:https://pryorwarriors.org/event/volleyball-jh-lame-deer/
END:VEVENT
BEGIN:VEVENT
DTSTART;TZID=UTC:20251001T170000
DTEND;TZID=UTC:20251001T190000
DTSTAMP:20260422T225702
CREATED:20250826T163810Z
LAST-MODIFIED:20250826T163810Z
UID:2451-1759338000-1759345200@pryorwarriors.org
SUMMARY:Volleyball  Northern Cheyenne(V) @PlentyCoups H.S.
DESCRIPTION:5pm
URL:https://pryorwarriors.org/event/volleyball-northern-cheyennev-plentycoups-h-s/
END:VEVENT
BEGIN:VEVENT
DTSTART;TZID=UTC:20251001T170000
DTEND;TZID=UTC:20251001T190000
DTSTAMP:20260422T225702
CREATED:20250911T194517Z
LAST-MODIFIED:20250911T194517Z
UID:2530-1759338000-1759345200@pryorwarriors.org
SUMMARY:JH VOLLEYBALL @ HOME VS LAMEDEER
DESCRIPTION:
URL:https://pryorwarriors.org/event/jh-volleyball-home-vs-lamedeer/
END:VEVENT
BEGIN:VEVENT
DTSTART;TZID=UTC:20251002T160000
DTEND;TZID=UTC:20251002T170000
DTSTAMP:20260422T225702
CREATED:20250911T194538Z
LAST-MODIFIED:20250911T194538Z
UID:2532-1759420800-1759424400@pryorwarriors.org
SUMMARY:JH VOLLEYBALL @ HYSHAM
DESCRIPTION:
URL:https://pryorwarriors.org/event/jh-volleyball-hysham/
END:VEVENT
BEGIN:VEVENT
DTSTART;TZID=UTC:20251002T160000
DTEND;TZID=UTC:20251002T190000
DTSTAMP:20260422T225702
CREATED:20250826T163843Z
LAST-MODIFIED:20250826T163843Z
UID:2453-1759420800-1759431600@pryorwarriors.org
SUMMARY:Volleyball Custer-Hysham(JH)(V)  @Hysham H.S.
DESCRIPTION:4pm & 5pm
URL:https://pryorwarriors.org/event/volleyball-custer-hyshamjhv-hysham-h-s/
END:VEVENT
BEGIN:VEVENT
DTSTART;TZID=UTC:20251003T100000
DTEND;TZID=UTC:20251003T140000
DTSTAMP:20260422T225702
CREATED:20250819T181114Z
LAST-MODIFIED:20250826T164441Z
UID:2411-1759485600-1759500000@pryorwarriors.org
SUMMARY:XC- Crazy Mountain Run ( Overland Golf)
DESCRIPTION:
URL:https://pryorwarriors.org/event/xc-crazy-mountain-run-overland-golf/
END:VEVENT
BEGIN:VEVENT
DTSTART;TZID=UTC:20251003T170000
DTEND;TZID=UTC:20251003T190000
DTSTAMP:20260422T225702
CREATED:20250826T163913Z
LAST-MODIFIED:20250826T163913Z
UID:2455-1759510800-1759518000@pryorwarriors.org
SUMMARY:Volleyball Reedpoint-Rapelje(JH)(V) @Rapelje H.S.
DESCRIPTION:5pm &6:30pm
URL:https://pryorwarriors.org/event/volleyball-reedpoint-rapeljejhv-rapelje-h-s/
END:VEVENT
BEGIN:VEVENT
DTSTART;TZID=UTC:20251003T170000
DTEND;TZID=UTC:20251003T190000
DTSTAMP:20260422T225702
CREATED:20250911T194604Z
LAST-MODIFIED:20250911T194604Z
UID:2534-1759510800-1759518000@pryorwarriors.org
SUMMARY:JH VOLLEYBALL @ REPELJE
DESCRIPTION:
URL:https://pryorwarriors.org/event/jh-volleyball-repelje/
END:VEVENT
BEGIN:VEVENT
DTSTART;TZID=UTC:20251004T130000
DTEND;TZID=UTC:20251004T150000
DTSTAMP:20260422T225702
CREATED:20250812T154317Z
LAST-MODIFIED:20250919T160931Z
UID:2391-1759582800-1759590000@pryorwarriors.org
SUMMARY:Football vs Custer-Hysham-Melstone @ Plenty Coups
DESCRIPTION:
URL:https://pryorwarriors.org/event/football-vs-custer-hysham-melstone-plenty-coups/
END:VEVENT
BEGIN:VEVENT
DTSTART;TZID=UTC:20251008T080000
DTEND;TZID=UTC:20251008T090000
DTSTAMP:20260422T225702
CREATED:20250917T155600Z
LAST-MODIFIED:20250922T143156Z
UID:2604-1759910400-1759914000@pryorwarriors.org
SUMMARY:WALK & ROLL DAY
DESCRIPTION:
URL:https://pryorwarriors.org/event/walk-roll-day/
END:VEVENT
BEGIN:VEVENT
DTSTART;TZID=UTC:20251009T170000
DTEND;TZID=UTC:20251009T190000
DTSTAMP:20260422T225702
CREATED:20250911T194741Z
LAST-MODIFIED:20250911T194741Z
UID:2536-1760029200-1760036400@pryorwarriors.org
SUMMARY:JH VOLLEYBALL @ HOME VS PARK CITY
DESCRIPTION:
URL:https://pryorwarriors.org/event/jh-volleyball-home-vs-park-city/
END:VEVENT
BEGIN:VEVENT
DTSTART;TZID=UTC:20251009T170000
DTEND;TZID=UTC:20251009T210000
DTSTAMP:20260422T225702
CREATED:20250826T163958Z
LAST-MODIFIED:20250902T171013Z
UID:2457-1760029200-1760043600@pryorwarriors.org
SUMMARY:Volleyball Park City (JH)(V) @PlentyCoups H.S.
DESCRIPTION:RESCHEDULED- 10/09/25 5pm & 6pm ( was 10/06/25 5pm & 6pm)
URL:https://pryorwarriors.org/event/volleyball-park-city-jhv-plentycoups-h-s/
END:VEVENT
BEGIN:VEVENT
DTSTART;VALUE=DATE:20251010
DTEND;VALUE=DATE:20251011
DTSTAMP:20260422T225702
CREATED:20250529T183635Z
LAST-MODIFIED:20250529T183635Z
UID:2288-1760054400-1760140799@pryorwarriors.org
SUMMARY:Clan Day
DESCRIPTION:
URL:https://pryorwarriors.org/event/clan-day-3/
END:VEVENT
BEGIN:VEVENT
DTSTART;TZID=UTC:20251010T100000
DTEND;TZID=UTC:20251010T140000
DTSTAMP:20260422T225702
CREATED:20250819T181145Z
LAST-MODIFIED:20250826T164419Z
UID:2413-1760090400-1760104800@pryorwarriors.org
SUMMARY:XC- Huntley Project Invite ( Pompeys)
DESCRIPTION:
URL:https://pryorwarriors.org/event/xc-huntley-project-invite-pompeys/
END:VEVENT
BEGIN:VEVENT
DTSTART;TZID=UTC:20251010T170000
DTEND;TZID=UTC:20251010T190000
DTSTAMP:20260422T225702
CREATED:20250911T194804Z
LAST-MODIFIED:20250911T194804Z
UID:2538-1760115600-1760122800@pryorwarriors.org
SUMMARY:JH VOLLEYBALL @ PRETTY EAGLE
DESCRIPTION:
URL:https://pryorwarriors.org/event/jh-volleyball-pretty-eagle/
END:VEVENT
BEGIN:VEVENT
DTSTART;VALUE=DATE:20251011
DTEND;VALUE=DATE:20251012
DTSTAMP:20260422T225702
CREATED:20250826T164028Z
LAST-MODIFIED:20250826T164028Z
UID:2459-1760140800-1760227199@pryorwarriors.org
SUMMARY:Volleyball (Jr. High Volleyball Tournament) TBA
DESCRIPTION:
URL:https://pryorwarriors.org/event/volleyball-jr-high-volleyball-tournament-tba/
END:VEVENT
BEGIN:VEVENT
DTSTART;VALUE=DATE:20251011
DTEND;VALUE=DATE:20251012
DTSTAMP:20260422T225702
CREATED:20250911T194833Z
LAST-MODIFIED:20250911T194833Z
UID:2540-1760140800-1760227199@pryorwarriors.org
SUMMARY:JH VOLLEYBALL DISTRICTS
DESCRIPTION:
URL:https://pryorwarriors.org/event/jh-volleyball-districts/
END:VEVENT
BEGIN:VEVENT
DTSTART;TZID=UTC:20251011T130000
DTEND;TZID=UTC:20251011T150000
DTSTAMP:20260422T225702
CREATED:20250812T154355Z
LAST-MODIFIED:20250812T154355Z
UID:2393-1760187600-1760194800@pryorwarriors.org
SUMMARY:Football Vs D-G-S-G @ Plenty Coups
DESCRIPTION:
URL:https://pryorwarriors.org/event/football-vs-d-g-s-g-plenty-coups/
END:VEVENT
BEGIN:VEVENT
DTSTART;TZID=UTC:20251011T130000
DTEND;TZID=UTC:20251011T150000
DTSTAMP:20260422T225702
CREATED:20250919T161526Z
LAST-MODIFIED:20250919T161526Z
UID:2635-1760187600-1760194800@pryorwarriors.org
SUMMARY:SENIOR NIGHT
DESCRIPTION:
URL:https://pryorwarriors.org/event/senior-night/
END:VEVENT
BEGIN:VEVENT
DTSTART;VALUE=DATE:20251013
DTEND;VALUE=DATE:20251014
DTSTAMP:20260422T225702
CREATED:20250908T184049Z
LAST-MODIFIED:20250908T184049Z
UID:2508-1760313600-1760399999@pryorwarriors.org
SUMMARY:NO SCHOOL- Columbus Day (Indigenous Peoples' Day)
DESCRIPTION:
URL:https://pryorwarriors.org/event/no-school-columbus-day-indigenous-peoples-day/
END:VEVENT
BEGIN:VEVENT
DTSTART;TZID=UTC:20251014T170000
DTEND;TZID=UTC:20251014T190000
DTSTAMP:20260422T225702
CREATED:20250911T194857Z
LAST-MODIFIED:20250911T194857Z
UID:2542-1760461200-1760468400@pryorwarriors.org
SUMMARY:JH VOLLEYBALL @ HOME VS ST. CHARLES
DESCRIPTION:
URL:https://pryorwarriors.org/event/jh-volleyball-home-vs-st-charles/
END:VEVENT
BEGIN:VEVENT
DTSTART;VALUE=DATE:20251016
DTEND;VALUE=DATE:20251018
DTSTAMP:20260422T225702
CREATED:20250529T173104Z
LAST-MODIFIED:20250529T173104Z
UID:2212-1760572800-1760745599@pryorwarriors.org
SUMMARY:PIR DAYS- NO SCHOOL
DESCRIPTION:
URL:https://pryorwarriors.org/event/pir-days-no-school-2/
END:VEVENT
BEGIN:VEVENT
DTSTART;TZID=UTC:20251016T100000
DTEND;TZID=UTC:20251016T140000
DTSTAMP:20260422T225702
CREATED:20250819T181212Z
LAST-MODIFIED:20250826T164356Z
UID:2415-1760608800-1760623200@pryorwarriors.org
SUMMARY:XC- Joliet Invite ( Joliet MT)
DESCRIPTION:
URL:https://pryorwarriors.org/event/xc-joliet-invite-joliet-mt/
END:VEVENT
BEGIN:VEVENT
DTSTART;TZID=UTC:20251017T190000
DTEND;TZID=UTC:20251017T210000
DTSTAMP:20260422T225702
CREATED:20250812T154429Z
LAST-MODIFIED:20250812T154429Z
UID:2395-1760727600-1760734800@pryorwarriors.org
SUMMARY:Football @ Lavina
DESCRIPTION:
URL:https://pryorwarriors.org/event/football-lavina/
END:VEVENT
BEGIN:VEVENT
DTSTART;TZID=UTC:20251018T130000
DTEND;TZID=UTC:20251018T170000
DTSTAMP:20260422T225702
CREATED:20250826T164056Z
LAST-MODIFIED:20250826T164056Z
UID:2461-1760792400-1760806800@pryorwarriors.org
SUMMARY:Volleyball Absarokee (JV)(V) @PlentyCoups H.S.
DESCRIPTION:
URL:https://pryorwarriors.org/event/volleyball-absarokee-jvv-plentycoups-h-s/
END:VEVENT
BEGIN:VEVENT
DTSTART;TZID=UTC:20251021T170000
DTEND;TZID=UTC:20251021T190000
DTSTAMP:20260422T225702
CREATED:20250826T164136Z
LAST-MODIFIED:20250826T164136Z
UID:2463-1761066000-1761073200@pryorwarriors.org
SUMMARY:Volleyball Bridger (V) @PlentyCoups H.S.
DESCRIPTION:5pm
URL:https://pryorwarriors.org/event/volleyball-bridger-v-plentycoups-h-s/
END:VEVENT
END:VCALENDAR