BEGIN:VCALENDAR
VERSION:2.0
PRODID:-//Pryor Public Schools, Pryor Montana - ECPv6.15.20//NONSGML v1.0//EN
CALSCALE:GREGORIAN
METHOD:PUBLISH
X-WR-CALNAME:Pryor Public Schools, Pryor Montana
X-ORIGINAL-URL:https://pryorwarriors.org
X-WR-CALDESC:Events for Pryor Public Schools, Pryor Montana
REFRESH-INTERVAL;VALUE=DURATION:PT1H
X-Robots-Tag:noindex
X-PUBLISHED-TTL:PT1H
BEGIN:VTIMEZONE
TZID:UTC
BEGIN:STANDARD
TZOFFSETFROM:+0000
TZOFFSETTO:+0000
TZNAME:UTC
DTSTART:20220101T000000
END:STANDARD
END:VTIMEZONE
BEGIN:VEVENT
DTSTART;TZID=UTC:20230914T170000
DTEND;TZID=UTC:20230914T190000
DTSTAMP:20260423T234020
CREATED:20230912T044651Z
LAST-MODIFIED:20230912T044651Z
UID:828-1694710800-1694718000@pryorwarriors.org
SUMMARY:Open House 2023 Pryor Public School
DESCRIPTION:OPEN HOUSE 9.14.23 \nMeet Teachers \nSee What Kids Are Learning \nFood Provided
URL:https://pryorwarriors.org/event/open-house-2023-pryor-public-school/
LOCATION:Open House 2023\, 1 Highschool Lane Pryor Public Schools\, Pryor\, MT
END:VEVENT
BEGIN:VEVENT
DTSTART;VALUE=DATE:20230904
DTEND;VALUE=DATE:20230905
DTSTAMP:20260423T234020
CREATED:20230724T231306Z
LAST-MODIFIED:20230724T231306Z
UID:602-1693785600-1693871999@pryorwarriors.org
SUMMARY:Labor Day - No School
DESCRIPTION:
URL:https://pryorwarriors.org/event/labor-day-no-school/
END:VEVENT
BEGIN:VEVENT
DTSTART;TZID=UTC:20230824T120000
DTEND;TZID=UTC:20230824T173000
DTSTAMP:20260423T234020
CREATED:20230725T003947Z
LAST-MODIFIED:20230725T003947Z
UID:621-1692878400-1692898200@pryorwarriors.org
SUMMARY:First Day of Football Competition
DESCRIPTION:
URL:https://pryorwarriors.org/event/first-day-of-football-competition/
END:VEVENT
BEGIN:VEVENT
DTSTART;TZID=UTC:20230824T080000
DTEND;TZID=UTC:20230824T153000
DTSTAMP:20260423T234020
CREATED:20230725T003447Z
LAST-MODIFIED:20230725T003447Z
UID:616-1692864000-1692891000@pryorwarriors.org
SUMMARY:First Day of School.
DESCRIPTION:
URL:https://pryorwarriors.org/event/first-day-of-school/
END:VEVENT
BEGIN:VEVENT
DTSTART;TZID=UTC:20230822T080000
DTEND;TZID=UTC:20230822T150000
DTSTAMP:20260423T234020
CREATED:20230725T003023Z
LAST-MODIFIED:20230725T003623Z
UID:613-1692691200-1692716400@pryorwarriors.org
SUMMARY:PIR Day
DESCRIPTION:Attention teachers! Mark your calendars for the Professional Information and Resources (PIR) day on August 22nd\, 2023\, where we will gather to prepare for the upcoming school year. Prepare for a day filled with valuable professional development and collaboration as we kick off the school year with the PIR day on August 22nd\, setting the stage for a successful academic journey.
URL:https://pryorwarriors.org/event/august-22nd-pir-day/
END:VEVENT
BEGIN:VEVENT
DTSTART;TZID=UTC:20230811T150000
DTEND;TZID=UTC:20230811T170000
DTSTAMP:20260423T234020
CREATED:20230725T004156Z
LAST-MODIFIED:20230725T004156Z
UID:625-1691766000-1691773200@pryorwarriors.org
SUMMARY:First Day of X-Country Practice
DESCRIPTION:
URL:https://pryorwarriors.org/event/first-day-of-x-country-practice/
END:VEVENT
BEGIN:VEVENT
DTSTART;TZID=UTC:20230811T150000
DTEND;TZID=UTC:20230811T170000
DTSTAMP:20260423T234020
CREATED:20230725T004054Z
LAST-MODIFIED:20230725T004054Z
UID:623-1691766000-1691773200@pryorwarriors.org
SUMMARY:First Day of Volleyball Practice
DESCRIPTION:
URL:https://pryorwarriors.org/event/first-day-of-volleyball-practice/
END:VEVENT
BEGIN:VEVENT
DTSTART;VALUE=DATE:20230811
DTEND;VALUE=DATE:20230812
DTSTAMP:20260423T234020
CREATED:20230725T001912Z
LAST-MODIFIED:20230725T003832Z
UID:607-1691712000-1691798399@pryorwarriors.org
SUMMARY:First Day of Football Practice
DESCRIPTION:
URL:https://pryorwarriors.org/event/first-day-of-football-practice/
END:VEVENT
END:VCALENDAR