BEGIN:VCALENDAR
VERSION:2.0
PRODID:-//Pryor Public Schools, Pryor Montana - ECPv6.15.20//NONSGML v1.0//EN
CALSCALE:GREGORIAN
METHOD:PUBLISH
X-WR-CALNAME:Pryor Public Schools, Pryor Montana
X-ORIGINAL-URL:https://pryorwarriors.org
X-WR-CALDESC:Events for Pryor Public Schools, Pryor Montana
REFRESH-INTERVAL;VALUE=DURATION:PT1H
X-Robots-Tag:noindex
X-PUBLISHED-TTL:PT1H
BEGIN:VTIMEZONE
TZID:UTC
BEGIN:STANDARD
TZOFFSETFROM:+0000
TZOFFSETTO:+0000
TZNAME:UTC
DTSTART:20240101T000000
END:STANDARD
END:VTIMEZONE
BEGIN:VEVENT
DTSTART;VALUE=DATE:20250522
DTEND;VALUE=DATE:20250525
DTSTAMP:20260422T220513
CREATED:20250428T154557Z
LAST-MODIFIED:20250428T154557Z
UID:2069-1747872000-1748131199@pryorwarriors.org
SUMMARY:HS TRACK - MHSA STATE B&C TRACK MEET MISSOULA
DESCRIPTION:
URL:https://pryorwarriors.org/event/hs-track-mhsa-state-bc-track-meet-missoula/
END:VEVENT
BEGIN:VEVENT
DTSTART;VALUE=DATE:20250516
DTEND;VALUE=DATE:20250517
DTSTAMP:20260422T220513
CREATED:20241107T171514Z
LAST-MODIFIED:20241107T171514Z
UID:1756-1747353600-1747439999@pryorwarriors.org
SUMMARY:NO SCHOOL
DESCRIPTION:
URL:https://pryorwarriors.org/event/no-school-19/
END:VEVENT
BEGIN:VEVENT
DTSTART;VALUE=DATE:20250515
DTEND;VALUE=DATE:20250516
DTSTAMP:20260422T220513
CREATED:20250428T154628Z
LAST-MODIFIED:20250428T154628Z
UID:2071-1747267200-1747353599@pryorwarriors.org
SUMMARY:HS TRACK - MHSA SOUTHERN B/C DIVISIONAL - LAUREL
DESCRIPTION:
URL:https://pryorwarriors.org/event/hs-track-mhsa-southern-b-c-divisional-laurel/
END:VEVENT
BEGIN:VEVENT
DTSTART;VALUE=DATE:20250514
DTEND;VALUE=DATE:20250515
DTSTAMP:20260422T220513
CREATED:20250428T171128Z
LAST-MODIFIED:20250428T171128Z
UID:2077-1747180800-1747267199@pryorwarriors.org
SUMMARY:Arrow Creek battle celebration day
DESCRIPTION:
URL:https://pryorwarriors.org/event/arrow-creek-battle-celebration-day/
END:VEVENT
BEGIN:VEVENT
DTSTART;VALUE=DATE:20250509
DTEND;VALUE=DATE:20250510
DTSTAMP:20260422T220513
CREATED:20250428T154738Z
LAST-MODIFIED:20250428T154738Z
UID:2075-1746748800-1746835199@pryorwarriors.org
SUMMARY:MHSA 5C/6C District Meet Laurel
DESCRIPTION:
URL:https://pryorwarriors.org/event/mhsa-5c-6c-district-meet-laurel/
END:VEVENT
BEGIN:VEVENT
DTSTART;VALUE=DATE:20250509
DTEND;VALUE=DATE:20250510
DTSTAMP:20260422T220513
CREATED:20241107T171459Z
LAST-MODIFIED:20241107T171459Z
UID:1754-1746748800-1746835199@pryorwarriors.org
SUMMARY:NO SCHOOL
DESCRIPTION:
URL:https://pryorwarriors.org/event/no-school-18/
END:VEVENT
BEGIN:VEVENT
DTSTART;TZID=UTC:20250507T080000
DTEND;TZID=UTC:20250507T090000
DTSTAMP:20260422T220513
CREATED:20250428T154710Z
LAST-MODIFIED:20250428T154710Z
UID:2073-1746604800-1746608400@pryorwarriors.org
SUMMARY:BIKE & ROLL TO SCHOOL
DESCRIPTION:8 AM Meet \n\n\nat \n\n\nBlue Community \n\n\nCenter and ride to school with Principal McCrea on your bike or scooter. Breakfast and Guest Speakers to follow. Community welcome to join! \n\n\n 
URL:https://pryorwarriors.org/event/bike-roll-to-school/
END:VEVENT
BEGIN:VEVENT
DTSTART;TZID=UTC:20250507T080000
DTEND;TZID=UTC:20250507T090000
DTSTAMP:20260422T220513
CREATED:20250304T161817Z
LAST-MODIFIED:20250304T161817Z
UID:1987-1746604800-1746608400@pryorwarriors.org
SUMMARY:Bike & Roll to school day
DESCRIPTION:Event Details:\n– Date: May 7\, 2023\n-Time: 8:00 AM – 9:00 AM \nWe invite all students\, families\, and staff to participate\, whether you bike\, skate\, scoot\, or roll your way to school. Not only is this a great way to promote healthy habits\, but it’s also an opportunity to foster a sense of community among our school families. \nWhy Participate?\n– Health Benefits: Exercising regularly is vital for our physical and mental well-being.\n– Environmental Impact: Choosing active transportation helps reduce our carbon footprint.\n– Community Spirit: Connect with classmates and neighbors while enjoying a fun morning commute! \nTo make the day even more enjoyable\, we’ll have a few surprises for participants\, including refreshments and prizes for those who roll to school! \nSafety First: Please ensure that all participants wear helmets and follow safe riding practices. We encourage families to ride together if possible! \nWe hope to see everyone getting involved in this exciting event. Let’s make May 7th a memorable day filled with joy\, laughter\, and a sense of community spirit as we roll and bike to school together! \nP.S. Don’t forget to take photos and tag us on social media with #RollAndBikeToSchoolDay!
URL:https://pryorwarriors.org/event/bike-roll-to-school-day/
END:VEVENT
BEGIN:VEVENT
DTSTART;VALUE=DATE:20250503
DTEND;VALUE=DATE:20250504
DTSTAMP:20260422T220513
CREATED:20250428T154134Z
LAST-MODIFIED:20250428T154834Z
UID:2065-1746230400-1746316799@pryorwarriors.org
SUMMARY:HS TRACK AL WALKER MEMORIAL IN LAUREL
DESCRIPTION:
URL:https://pryorwarriors.org/event/hs-track-al-walker-memorial-in-laurel/
END:VEVENT
BEGIN:VEVENT
DTSTART;VALUE=DATE:20250502
DTEND;VALUE=DATE:20250503
DTSTAMP:20260422T220513
CREATED:20250428T154106Z
LAST-MODIFIED:20250428T154106Z
UID:2063-1746144000-1746230399@pryorwarriors.org
SUMMARY:GOLF- VARSITY MEET HARLOWTON
DESCRIPTION:
URL:https://pryorwarriors.org/event/golf-varsity-meet-harlowton/
END:VEVENT
BEGIN:VEVENT
DTSTART;VALUE=DATE:20250502
DTEND;VALUE=DATE:20250503
DTSTAMP:20260422T220513
CREATED:20241107T171444Z
LAST-MODIFIED:20241107T171444Z
UID:1752-1746144000-1746230399@pryorwarriors.org
SUMMARY:NO SCHOOL
DESCRIPTION:
URL:https://pryorwarriors.org/event/no-school-17/
END:VEVENT
BEGIN:VEVENT
DTSTART;TZID=UTC:20250501T090000
DTEND;TZID=UTC:20250501T170000
DTSTAMP:20260422T220513
CREATED:20250428T153929Z
LAST-MODIFIED:20250428T153929Z
UID:2057-1746090000-1746118800@pryorwarriors.org
SUMMARY:GOLF-VARSITY LIVINGSTON COUNTRY CLUB
DESCRIPTION:
URL:https://pryorwarriors.org/event/golf-varsity-livingston-country-club/
END:VEVENT
BEGIN:VEVENT
DTSTART;VALUE=DATE:20250501
DTEND;VALUE=DATE:20250502
DTSTAMP:20260422T220513
CREATED:20250428T154033Z
LAST-MODIFIED:20250428T154033Z
UID:2059-1746057600-1746143999@pryorwarriors.org
SUMMARY:9-12 wear white/7-8 wear orange/K-6 wear teal
DESCRIPTION:
URL:https://pryorwarriors.org/event/9-12-wear-white-7-8-wear-orange-k-6-wear-teal/
END:VEVENT
BEGIN:VEVENT
DTSTART;TZID=UTC:20250430T093000
DTEND;TZID=UTC:20250430T153000
DTSTAMP:20260422T220513
CREATED:20250428T153759Z
LAST-MODIFIED:20250428T153759Z
UID:2052-1746005400-1746027000@pryorwarriors.org
SUMMARY:GOLF- JV MEET LIVINGSTON COUNTRY CLUB
DESCRIPTION:
URL:https://pryorwarriors.org/event/golf-jv-meet-livingston-country-club/
END:VEVENT
BEGIN:VEVENT
DTSTART;VALUE=DATE:20250430
DTEND;VALUE=DATE:20250501
DTSTAMP:20260422T220513
CREATED:20250428T153842Z
LAST-MODIFIED:20250428T153842Z
UID:2054-1745971200-1746057599@pryorwarriors.org
SUMMARY:GIRLS WEAR TURQUOIS/BOYS WEAR ORANGE
DESCRIPTION:
URL:https://pryorwarriors.org/event/girls-wear-turquois-boys-wear-orange/
END:VEVENT
BEGIN:VEVENT
DTSTART;VALUE=DATE:20250429
DTEND;VALUE=DATE:20250430
DTSTAMP:20260422T220513
CREATED:20250428T153707Z
LAST-MODIFIED:20250428T154201Z
UID:2049-1745884800-1745971199@pryorwarriors.org
SUMMARY:Slides and Slippers day
DESCRIPTION:
URL:https://pryorwarriors.org/event/slides-and-slippers-day/
END:VEVENT
BEGIN:VEVENT
DTSTART;TZID=UTC:20250428T080000
DTEND;TZID=UTC:20250428T170000
DTSTAMP:20260422T220513
CREATED:20250428T153557Z
LAST-MODIFIED:20250428T153557Z
UID:2044-1745827200-1745859600@pryorwarriors.org
SUMMARY:Brighten the Week- Use Bright colors and Sunglasses
DESCRIPTION:
URL:https://pryorwarriors.org/event/brighten-the-week-use-bright-colors-and-sunglasses/
END:VEVENT
BEGIN:VEVENT
DTSTART;VALUE=DATE:20250428
DTEND;VALUE=DATE:20250429
DTSTAMP:20260422T220513
CREATED:20250428T153628Z
LAST-MODIFIED:20250428T153628Z
UID:2047-1745798400-1745884799@pryorwarriors.org
SUMMARY:HS TRACK- 2025 Midland Roundtable
DESCRIPTION:
URL:https://pryorwarriors.org/event/hs-track-2025-midland-roundtable/
END:VEVENT
BEGIN:VEVENT
DTSTART;VALUE=DATE:20250425
DTEND;VALUE=DATE:20250426
DTSTAMP:20260422T220513
CREATED:20241107T171424Z
LAST-MODIFIED:20241107T171424Z
UID:1750-1745539200-1745625599@pryorwarriors.org
SUMMARY:NO SCHOOL
DESCRIPTION:
URL:https://pryorwarriors.org/event/no-school-16/
END:VEVENT
BEGIN:VEVENT
DTSTART;VALUE=DATE:20250418
DTEND;VALUE=DATE:20250419
DTSTAMP:20260422T220513
CREATED:20241107T171411Z
LAST-MODIFIED:20241107T171411Z
UID:1748-1744934400-1745020799@pryorwarriors.org
SUMMARY:NO SCHOOL
DESCRIPTION:
URL:https://pryorwarriors.org/event/no-school-15/
END:VEVENT
BEGIN:VEVENT
DTSTART;VALUE=DATE:20250411
DTEND;VALUE=DATE:20250412
DTSTAMP:20260422T220513
CREATED:20241107T171356Z
LAST-MODIFIED:20241107T171356Z
UID:1746-1744329600-1744415999@pryorwarriors.org
SUMMARY:NO SCHOOL
DESCRIPTION:
URL:https://pryorwarriors.org/event/no-school-14/
END:VEVENT
BEGIN:VEVENT
DTSTART;VALUE=DATE:20250404
DTEND;VALUE=DATE:20250405
DTSTAMP:20260422T220513
CREATED:20241107T171342Z
LAST-MODIFIED:20241107T171342Z
UID:1744-1743724800-1743811199@pryorwarriors.org
SUMMARY:NO SCHOOL
DESCRIPTION:
URL:https://pryorwarriors.org/event/no-school-13/
END:VEVENT
BEGIN:VEVENT
DTSTART;VALUE=DATE:20250331
DTEND;VALUE=DATE:20250401
DTSTAMP:20260422T220513
CREATED:20240903T180531Z
LAST-MODIFIED:20240903T180531Z
UID:1636-1743379200-1743465599@pryorwarriors.org
SUMMARY:END OF 3RD QUARTER
DESCRIPTION:
URL:https://pryorwarriors.org/event/end-of-3rd-quarter/
END:VEVENT
BEGIN:VEVENT
DTSTART;VALUE=DATE:20250328
DTEND;VALUE=DATE:20250329
DTSTAMP:20260422T220513
CREATED:20241107T171326Z
LAST-MODIFIED:20241107T171326Z
UID:1742-1743120000-1743206399@pryorwarriors.org
SUMMARY:NO SCHOOL
DESCRIPTION:
URL:https://pryorwarriors.org/event/no-school-12/
END:VEVENT
BEGIN:VEVENT
DTSTART;TZID=UTC:20250326T160000
DTEND;TZID=UTC:20250326T190000
DTSTAMP:20260422T220513
CREATED:20250304T163640Z
LAST-MODIFIED:20250304T163640Z
UID:1990-1743004800-1743015600@pryorwarriors.org
SUMMARY:COMMUNITY GRANT/BUFFALO FEED MEETING
DESCRIPTION:
URL:https://pryorwarriors.org/event/community-grant-buffalo-feed-meeting/
END:VEVENT
BEGIN:VEVENT
DTSTART;TZID=UTC:20250326T140000
DTEND;TZID=UTC:20250326T150000
DTSTAMP:20260422T220513
CREATED:20240903T180455Z
LAST-MODIFIED:20241107T181443Z
UID:1632-1742997600-1743001200@pryorwarriors.org
SUMMARY:PARENT TEACHER CONFERENCES
DESCRIPTION:
URL:https://pryorwarriors.org/event/parent-teacher-conferences-3/
END:VEVENT
BEGIN:VEVENT
DTSTART;VALUE=DATE:20250321
DTEND;VALUE=DATE:20250322
DTSTAMP:20260422T220513
CREATED:20241107T171310Z
LAST-MODIFIED:20241107T171310Z
UID:1740-1742515200-1742601599@pryorwarriors.org
SUMMARY:NO SCHOOL
DESCRIPTION:
URL:https://pryorwarriors.org/event/no-school-11/
END:VEVENT
BEGIN:VEVENT
DTSTART;VALUE=DATE:20250321
DTEND;VALUE=DATE:20250322
DTSTAMP:20260422T220513
CREATED:20241107T171255Z
LAST-MODIFIED:20241107T171255Z
UID:1738-1742515200-1742601599@pryorwarriors.org
SUMMARY:NO SCHOOL
DESCRIPTION:
URL:https://pryorwarriors.org/event/no-school-10/
END:VEVENT
BEGIN:VEVENT
DTSTART;VALUE=DATE:20250314
DTEND;VALUE=DATE:20250315
DTSTAMP:20260422T220513
CREATED:20241107T171242Z
LAST-MODIFIED:20241107T171242Z
UID:1736-1741910400-1741996799@pryorwarriors.org
SUMMARY:NO SCHOOL
DESCRIPTION:
URL:https://pryorwarriors.org/event/no-school-9/
END:VEVENT
BEGIN:VEVENT
DTSTART;VALUE=DATE:20250307
DTEND;VALUE=DATE:20250308
DTSTAMP:20260422T220513
CREATED:20241107T171225Z
LAST-MODIFIED:20241107T171225Z
UID:1734-1741305600-1741391999@pryorwarriors.org
SUMMARY:NO SCHOOL
DESCRIPTION:
URL:https://pryorwarriors.org/event/no-school-8/
END:VEVENT
END:VCALENDAR