BEGIN:VCALENDAR
VERSION:2.0
PRODID:-//Pryor Public Schools, Pryor Montana - ECPv6.15.20//NONSGML v1.0//EN
CALSCALE:GREGORIAN
METHOD:PUBLISH
X-WR-CALNAME:Pryor Public Schools, Pryor Montana
X-ORIGINAL-URL:https://pryorwarriors.org
X-WR-CALDESC:Events for Pryor Public Schools, Pryor Montana
REFRESH-INTERVAL;VALUE=DURATION:PT1H
X-Robots-Tag:noindex
X-PUBLISHED-TTL:PT1H
BEGIN:VTIMEZONE
TZID:UTC
BEGIN:STANDARD
TZOFFSETFROM:+0000
TZOFFSETTO:+0000
TZNAME:UTC
DTSTART:20220101T000000
END:STANDARD
END:VTIMEZONE
BEGIN:VTIMEZONE
TZID:Asia/Krasnoyarsk
BEGIN:STANDARD
TZOFFSETFROM:+0700
TZOFFSETTO:+0700
TZNAME:+07
DTSTART:20220101T000000
END:STANDARD
END:VTIMEZONE
BEGIN:VEVENT
DTSTART;TZID=UTC:20240517T120000
DTEND;TZID=UTC:20240517T140000
DTSTAMP:20260423T232855
CREATED:20240507T205454Z
LAST-MODIFIED:20240507T205454Z
UID:1401-1715947200-1715954400@pryorwarriors.org
SUMMARY:Senior Parent Luncheon
DESCRIPTION:Senior student parents come join us for lunch with your senior student
URL:https://pryorwarriors.org/event/senior-parent-luncheon/
END:VEVENT
BEGIN:VEVENT
DTSTART;VALUE=DATE:20240424
DTEND;VALUE=DATE:20240427
DTSTAMP:20260423T232855
CREATED:20240404T204633Z
LAST-MODIFIED:20240404T204633Z
UID:1390-1713916800-1714175999@pryorwarriors.org
SUMMARY:Distance Learning Days
DESCRIPTION:The students will be learning on-line
URL:https://pryorwarriors.org/event/distance-learning-days/
END:VEVENT
BEGIN:VEVENT
DTSTART;TZID=UTC:20240410T160000
DTEND;TZID=UTC:20240410T180000
DTSTAMP:20260423T232855
CREATED:20240129T200438Z
LAST-MODIFIED:20240129T200438Z
UID:1319-1712764800-1712772000@pryorwarriors.org
SUMMARY:Community Connection Meeting
DESCRIPTION:Learning about funds and projects. Dinner will be provided
URL:https://pryorwarriors.org/event/community-connection-meeting/
END:VEVENT
BEGIN:VEVENT
DTSTART;VALUE=DATE:20240329
DTEND;VALUE=DATE:20240402
DTSTAMP:20260423T232855
CREATED:20240304T210550Z
LAST-MODIFIED:20240304T210550Z
UID:1361-1711670400-1712015999@pryorwarriors.org
SUMMARY:SPRING BREAK - NO SCHOOL
DESCRIPTION:
URL:https://pryorwarriors.org/event/spring-break-no-school/
END:VEVENT
BEGIN:VEVENT
DTSTART;TZID=UTC:20240325T160000
DTEND;TZID=UTC:20240325T190000
DTSTAMP:20260423T232855
CREATED:20240213T201521Z
LAST-MODIFIED:20240213T201521Z
UID:1351-1711382400-1711393200@pryorwarriors.org
SUMMARY:JH Girls Basketball @ Absarokee
DESCRIPTION:4 & 5 PM
URL:https://pryorwarriors.org/event/jh-girls-basketball-absarokee/
END:VEVENT
BEGIN:VEVENT
DTSTART;VALUE=DATE:20240323
DTEND;VALUE=DATE:20240324
DTSTAMP:20260423T232855
CREATED:20240213T201449Z
LAST-MODIFIED:20240213T201449Z
UID:1349-1711152000-1711238399@pryorwarriors.org
SUMMARY:JH Girls Basketball Tournament
DESCRIPTION:
URL:https://pryorwarriors.org/event/jh-girls-basketball-tournament/
END:VEVENT
BEGIN:VEVENT
DTSTART;TZID=UTC:20240320T153000
DTEND;TZID=UTC:20240320T183000
DTSTAMP:20260423T232855
CREATED:20240304T210234Z
LAST-MODIFIED:20240304T210234Z
UID:1358-1710948600-1710959400@pryorwarriors.org
SUMMARY:Parent Teacher Conferences
DESCRIPTION:
URL:https://pryorwarriors.org/event/parent-teacher-conferences-2/
END:VEVENT
BEGIN:VEVENT
DTSTART;TZID=UTC:20240319T160000
DTEND;TZID=UTC:20240319T190000
DTSTAMP:20260423T232855
CREATED:20240213T201421Z
LAST-MODIFIED:20240213T201421Z
UID:1347-1710864000-1710874800@pryorwarriors.org
SUMMARY:JH Girls Basketball @ Bridger
DESCRIPTION:B Squad 4 pm\, A Squad 5:15
URL:https://pryorwarriors.org/event/jh-girls-basketball-bridger/
END:VEVENT
BEGIN:VEVENT
DTSTART;TZID=UTC:20240318T160000
DTEND;TZID=UTC:20240318T170000
DTSTAMP:20260423T232855
CREATED:20240213T201335Z
LAST-MODIFIED:20240213T201335Z
UID:1345-1710777600-1710781200@pryorwarriors.org
SUMMARY:JH Girls Basketball @ Harlowton -Ryegate
DESCRIPTION:@ Harlowton-Ryegate
URL:https://pryorwarriors.org/event/jh-girls-basketball-harlowton-ryegate/
END:VEVENT
BEGIN:VEVENT
DTSTART;VALUE=DATE:20240316
DTEND;VALUE=DATE:20240317
DTSTAMP:20260423T232855
CREATED:20240213T201255Z
LAST-MODIFIED:20240213T201255Z
UID:1343-1710547200-1710633599@pryorwarriors.org
SUMMARY:JH Girls Basketball @ Plenty Coups
DESCRIPTION:Vs: Lavina \nTime: TBD
URL:https://pryorwarriors.org/event/jh-girls-basketball-plenty-coups-3/
END:VEVENT
BEGIN:VEVENT
DTSTART;TZID=UTC:20240315T150000
DTEND;TZID=UTC:20240315T170000
DTSTAMP:20260423T232855
CREATED:20240213T201220Z
LAST-MODIFIED:20240213T201220Z
UID:1341-1710514800-1710522000@pryorwarriors.org
SUMMARY:JH Girls Basketball @ Rapelje
DESCRIPTION:@ Rapelje 3:00 PM
URL:https://pryorwarriors.org/event/jh-girls-basketball-rapelje/
END:VEVENT
BEGIN:VEVENT
DTSTART;TZID=UTC:20240313T163000
DTEND;TZID=UTC:20240313T190000
DTSTAMP:20260423T232855
CREATED:20240213T201017Z
LAST-MODIFIED:20240304T210420Z
UID:1337-1710347400-1710356400@pryorwarriors.org
SUMMARY:JH Girls Basketball @ St. Charles
DESCRIPTION:@ St. Charles 4:30 PM 5:30 PM
URL:https://pryorwarriors.org/event/jh-girls-basketball-st-charles/
END:VEVENT
BEGIN:VEVENT
DTSTART;VALUE=DATE:20240311
DTEND;VALUE=DATE:20240312
DTSTAMP:20260423T232855
CREATED:20240304T214300Z
LAST-MODIFIED:20240304T214300Z
UID:1365-1710115200-1710201599@pryorwarriors.org
SUMMARY:First day for Practice in Track & Field and Golf
DESCRIPTION:
URL:https://pryorwarriors.org/event/first-day-for-practice-in-track-field-and-golf/
END:VEVENT
BEGIN:VEVENT
DTSTART;VALUE=DATE:20240226
DTEND;VALUE=DATE:20240227
DTSTAMP:20260423T232855
CREATED:20240213T200931Z
LAST-MODIFIED:20240213T201057Z
UID:1335-1708905600-1708991999@pryorwarriors.org
SUMMARY:JH Girls Basketball @ Lavina
DESCRIPTION:Time- TBD
URL:https://pryorwarriors.org/event/jh-girls-basketball-lavina/
END:VEVENT
BEGIN:VEVENT
DTSTART;TZID=UTC:20240220T160000
DTEND;TZID=UTC:20240220T190000
DTSTAMP:20260423T232855
CREATED:20240213T200855Z
LAST-MODIFIED:20240213T200855Z
UID:1333-1708444800-1708455600@pryorwarriors.org
SUMMARY:JH Girls basketball @ Plenty Coups
DESCRIPTION:VS Harlowton-Ryegate 4:00PM
URL:https://pryorwarriors.org/event/jh-girls-basketball-plenty-coups/
END:VEVENT
BEGIN:VEVENT
DTSTART;VALUE=DATE:20240219
DTEND;VALUE=DATE:20240220
DTSTAMP:20260423T232855
CREATED:20240213T200514Z
LAST-MODIFIED:20240213T200514Z
UID:1331-1708300800-1708387199@pryorwarriors.org
SUMMARY:No School- Presidents Day
DESCRIPTION:No School- Presidents Day
URL:https://pryorwarriors.org/event/no-school-presidents-day/
END:VEVENT
BEGIN:VEVENT
DTSTART;VALUE=DATE:20231225
DTEND;VALUE=DATE:20240103
DTSTAMP:20260423T232855
CREATED:20230912T054218Z
LAST-MODIFIED:20230912T054227Z
UID:842-1703462400-1704239999@pryorwarriors.org
SUMMARY:Winter Break
DESCRIPTION:
URL:https://pryorwarriors.org/event/winter-break/
END:VEVENT
BEGIN:VEVENT
DTSTART;TZID=UTC:20231116T153000
DTEND;TZID=UTC:20231116T170000
DTSTAMP:20260423T232855
CREATED:20231023T154305Z
LAST-MODIFIED:20231023T154719Z
UID:901-1700148600-1700154000@pryorwarriors.org
SUMMARY:First Day of Basketball Practice
DESCRIPTION:
URL:https://pryorwarriors.org/event/first-day-of-basketball-practice/
END:VEVENT
BEGIN:VEVENT
DTSTART;TZID=UTC:20231102T163000
DTEND;TZID=UTC:20231104T170000
DTSTAMP:20260423T232855
CREATED:20231023T154142Z
LAST-MODIFIED:20231023T154142Z
UID:899-1698942600-1699117200@pryorwarriors.org
SUMMARY:Divisional Volleyball Tournament
DESCRIPTION:
URL:https://pryorwarriors.org/event/divisional-volleyball-tournament/
END:VEVENT
BEGIN:VEVENT
DTSTART;TZID=UTC:20231030T150000
DTEND;TZID=UTC:20231030T180000
DTSTAMP:20260423T232855
CREATED:20231108T163042Z
LAST-MODIFIED:20231030T163204Z
UID:920-1698678000-1698688800@pryorwarriors.org
SUMMARY:Parent- Teacher Conferences
DESCRIPTION:More Information coming soon\, contact the school for additional
URL:https://pryorwarriors.org/event/parent-teacher-conferences/
END:VEVENT
BEGIN:VEVENT
DTSTART;TZID=UTC:20231026T080000
DTEND;TZID=UTC:20231028T170000
DTSTAMP:20260423T232855
CREATED:20231023T154034Z
LAST-MODIFIED:20231023T154034Z
UID:897-1698307200-1698512400@pryorwarriors.org
SUMMARY:District Volleyball Tournament
DESCRIPTION:
URL:https://pryorwarriors.org/event/district-volleyball-tournament/
END:VEVENT
BEGIN:VEVENT
DTSTART;VALUE=DATE:20231019
DTEND;VALUE=DATE:20231021
DTSTAMP:20260423T232855
CREATED:20230912T053851Z
LAST-MODIFIED:20230912T053851Z
UID:838-1697673600-1697846399@pryorwarriors.org
SUMMARY:PIR Days - Teacher Convention Days
DESCRIPTION:
URL:https://pryorwarriors.org/event/pir-days-teacher-convention-days/
END:VEVENT
BEGIN:VEVENT
DTSTART;TZID=UTC:20231018T080000
DTEND;TZID=UTC:20231018T170000
DTSTAMP:20260423T232855
CREATED:20230725T002857Z
LAST-MODIFIED:20230725T003558Z
UID:611-1697616000-1697648400@pryorwarriors.org
SUMMARY:School Picture Day
DESCRIPTION:Attention parents\, please mark your calendar for the upcoming school picture day on October 18\, 2023. Pryor schools will send photography package options to students. Packets are also available to pick up from the main office. Lifetouch provides photography services.
URL:https://pryorwarriors.org/event/school-picture-day-october-18-2023/
END:VEVENT
BEGIN:VEVENT
DTSTART;VALUE=DATE:20231009
DTEND;VALUE=DATE:20231010
DTSTAMP:20260423T232855
CREATED:20231006T050147Z
LAST-MODIFIED:20231006T050147Z
UID:880-1696809600-1696895999@pryorwarriors.org
SUMMARY:Indigenous Day - No School
DESCRIPTION:Indigenous Day
URL:https://pryorwarriors.org/event/indigenous-day-no-school/
END:VEVENT
BEGIN:VEVENT
DTSTART;TZID=UTC:20230922T100000
DTEND;TZID=UTC:20230922T110000
DTSTAMP:20260423T232855
CREATED:20230912T045516Z
LAST-MODIFIED:20230912T045516Z
UID:834-1695376800-1695380400@pryorwarriors.org
SUMMARY:Parade - Native American Week
DESCRIPTION:
URL:https://pryorwarriors.org/event/parade-native-american-week/
END:VEVENT
BEGIN:VEVENT
DTSTART;VALUE=DATE:20230918
DTEND;VALUE=DATE:20230923
DTSTAMP:20260423T232855
CREATED:20230912T045116Z
LAST-MODIFIED:20230912T045116Z
UID:831-1694995200-1695427199@pryorwarriors.org
SUMMARY:Native American Week
DESCRIPTION:Native American Week
URL:https://pryorwarriors.org/event/native-american-week/
END:VEVENT
BEGIN:VEVENT
DTSTART;TZID=UTC:20230916T170000
DTEND;TZID=UTC:20230916T183000
DTSTAMP:20260423T232855
CREATED:20230912T052450Z
LAST-MODIFIED:20230912T052450Z
UID:836-1694883600-1694889000@pryorwarriors.org
SUMMARY:High School Volleyball Schedule
DESCRIPTION:16th @ Hysham\, [Hysham’s Senior Night]\, 3\, 4\, 5:15 p.m.\, 6:30 p.m.—JH\, JH\, JV\, V
URL:https://pryorwarriors.org/event/high-school-volleyball-schedule/
END:VEVENT
BEGIN:VEVENT
DTSTART;TZID=UTC:20230914T170000
DTEND;TZID=UTC:20230914T190000
DTSTAMP:20260423T232855
CREATED:20230912T044651Z
LAST-MODIFIED:20230912T044651Z
UID:828-1694710800-1694718000@pryorwarriors.org
SUMMARY:Open House 2023 Pryor Public School
DESCRIPTION:OPEN HOUSE 9.14.23 \nMeet Teachers \nSee What Kids Are Learning \nFood Provided
URL:https://pryorwarriors.org/event/open-house-2023-pryor-public-school/
LOCATION:Open House 2023\, 1 Highschool Lane Pryor Public Schools\, Pryor\, MT
END:VEVENT
BEGIN:VEVENT
DTSTART;VALUE=DATE:20230904
DTEND;VALUE=DATE:20230905
DTSTAMP:20260423T232855
CREATED:20230724T231306Z
LAST-MODIFIED:20230724T231306Z
UID:602-1693785600-1693871999@pryorwarriors.org
SUMMARY:Labor Day - No School
DESCRIPTION:
URL:https://pryorwarriors.org/event/labor-day-no-school/
END:VEVENT
BEGIN:VEVENT
DTSTART;TZID=UTC:20230824T120000
DTEND;TZID=UTC:20230824T173000
DTSTAMP:20260423T232855
CREATED:20230725T003947Z
LAST-MODIFIED:20230725T003947Z
UID:621-1692878400-1692898200@pryorwarriors.org
SUMMARY:First Day of Football Competition
DESCRIPTION:
URL:https://pryorwarriors.org/event/first-day-of-football-competition/
END:VEVENT
END:VCALENDAR