BEGIN:VCALENDAR
VERSION:2.0
PRODID:-//Pryor Public Schools, Pryor Montana - ECPv6.15.20//NONSGML v1.0//EN
CALSCALE:GREGORIAN
METHOD:PUBLISH
X-WR-CALNAME:Pryor Public Schools, Pryor Montana
X-ORIGINAL-URL:https://pryorwarriors.org
X-WR-CALDESC:Events for Pryor Public Schools, Pryor Montana
REFRESH-INTERVAL;VALUE=DURATION:PT1H
X-Robots-Tag:noindex
X-PUBLISHED-TTL:PT1H
BEGIN:VTIMEZONE
TZID:UTC
BEGIN:STANDARD
TZOFFSETFROM:+0000
TZOFFSETTO:+0000
TZNAME:UTC
DTSTART:20230101T000000
END:STANDARD
END:VTIMEZONE
BEGIN:VEVENT
DTSTART;VALUE=DATE:20241105
DTEND;VALUE=DATE:20241106
DTSTAMP:20260423T114029
CREATED:20241107T170706Z
LAST-MODIFIED:20241107T170706Z
UID:1718-1730764800-1730851199@pryorwarriors.org
SUMMARY:NO SCHOOL-  ELECTION DAY
DESCRIPTION:
URL:https://pryorwarriors.org/event/no-school-election-day/
END:VEVENT
BEGIN:VEVENT
DTSTART;VALUE=DATE:20241104
DTEND;VALUE=DATE:20241106
DTSTAMP:20260423T114029
CREATED:20240903T173604Z
LAST-MODIFIED:20240903T173604Z
UID:1572-1730678400-1730851199@pryorwarriors.org
SUMMARY:SEEAC TOURNAMENT
DESCRIPTION:@ LODGE GRASS \nTBD
URL:https://pryorwarriors.org/event/seeac-tournament/
END:VEVENT
BEGIN:VEVENT
DTSTART;VALUE=DATE:20241104
DTEND;VALUE=DATE:20241105
DTSTAMP:20260423T114029
CREATED:20240903T180321Z
LAST-MODIFIED:20240903T180321Z
UID:1625-1730678400-1730764799@pryorwarriors.org
SUMMARY:END OF QUARTER/SEMESTER
DESCRIPTION:
URL:https://pryorwarriors.org/event/end-of-quarter-semester/
END:VEVENT
BEGIN:VEVENT
DTSTART;VALUE=DATE:20241101
DTEND;VALUE=DATE:20241103
DTSTAMP:20260423T114029
CREATED:20240903T175224Z
LAST-MODIFIED:20240903T175224Z
UID:1606-1730419200-1730591999@pryorwarriors.org
SUMMARY:SEEAC TOURNAMENT FOOTBALL
DESCRIPTION:@ LAME DEER
URL:https://pryorwarriors.org/event/seeac-tournament-football/
END:VEVENT
BEGIN:VEVENT
DTSTART;VALUE=DATE:20241031
DTEND;VALUE=DATE:20241103
DTSTAMP:20260423T114029
CREATED:20240903T173530Z
LAST-MODIFIED:20240903T173530Z
UID:1570-1730332800-1730591999@pryorwarriors.org
SUMMARY:HS VOLLEYBALL DISTRICT 4 C TOURNAMENT
DESCRIPTION:OCTOBER 31-NOVEMBER 2ND \nTBD
URL:https://pryorwarriors.org/event/hs-volleyball-district-4-c-tournament/
END:VEVENT
BEGIN:VEVENT
DTSTART;TZID=UTC:20241026T130000
DTEND;TZID=UTC:20241026T160000
DTSTAMP:20260423T114029
CREATED:20240903T175147Z
LAST-MODIFIED:20240903T175509Z
UID:1604-1729947600-1729958400@pryorwarriors.org
SUMMARY:HS FOOTBALL-HOMECOMING
DESCRIPTION:@ PRYOR VS BROCKTON \n1 PM
URL:https://pryorwarriors.org/event/hs-football-4/
END:VEVENT
BEGIN:VEVENT
DTSTART;TZID=UTC:20241025T183000
DTEND;TZID=UTC:20241025T213000
DTSTAMP:20260423T114029
CREATED:20240903T173448Z
LAST-MODIFIED:20240903T173448Z
UID:1568-1729881000-1729891800@pryorwarriors.org
SUMMARY:HS VOLLEYBALL
DESCRIPTION:@ RPR \nHS 6:30 PM
URL:https://pryorwarriors.org/event/hs-volleyball-3/
END:VEVENT
BEGIN:VEVENT
DTSTART;TZID=UTC:20241024T160000
DTEND;TZID=UTC:20241024T180000
DTSTAMP:20260423T114029
CREATED:20240903T175119Z
LAST-MODIFIED:20240903T175720Z
UID:1602-1729785600-1729792800@pryorwarriors.org
SUMMARY:JH FOOTBALL
DESCRIPTION:@ WYOLA \n4 PM
URL:https://pryorwarriors.org/event/football/
END:VEVENT
BEGIN:VEVENT
DTSTART;TZID=UTC:20241022T171500
DTEND;TZID=UTC:20241022T190000
DTSTAMP:20260423T114029
CREATED:20240903T173411Z
LAST-MODIFIED:20240903T173411Z
UID:1566-1729617300-1729623600@pryorwarriors.org
SUMMARY:HS VOLLEYBALL
DESCRIPTION:@ BRIDGER \nHS 5:15 PM
URL:https://pryorwarriors.org/event/hs-volleyball-2/
END:VEVENT
BEGIN:VEVENT
DTSTART;TZID=UTC:20241022T090000
DTEND;TZID=UTC:20241022T140000
DTSTAMP:20260423T114029
CREATED:20240905T154144Z
LAST-MODIFIED:20240905T154214Z
UID:1664-1729587600-1729605600@pryorwarriors.org
SUMMARY:PICTURE DAY
DESCRIPTION:
URL:https://pryorwarriors.org/event/picture-day/
END:VEVENT
BEGIN:VEVENT
DTSTART;TZID=UTC:20241019T171500
DTEND;TZID=UTC:20241019T190000
DTSTAMP:20260423T114029
CREATED:20240903T173336Z
LAST-MODIFIED:20240903T173336Z
UID:1564-1729358100-1729364400@pryorwarriors.org
SUMMARY:HS VOLLEYBALL
DESCRIPTION:@ ROBERTS \nHS 5:15 PM
URL:https://pryorwarriors.org/event/hs-volleyball/
END:VEVENT
BEGIN:VEVENT
DTSTART;TZID=UTC:20241018T140000
DTEND;TZID=UTC:20241018T160000
DTSTAMP:20260423T114029
CREATED:20240903T173300Z
LAST-MODIFIED:20240903T173300Z
UID:1562-1729260000-1729267200@pryorwarriors.org
SUMMARY:JH VOLLEYBALL
DESCRIPTION:@ PECA \nJH 2 PM
URL:https://pryorwarriors.org/event/jh-volleyball-2/
END:VEVENT
BEGIN:VEVENT
DTSTART;VALUE=DATE:20241017
DTEND;VALUE=DATE:20241019
DTSTAMP:20260423T114029
CREATED:20240903T180033Z
LAST-MODIFIED:20240903T180033Z
UID:1614-1729123200-1729295999@pryorwarriors.org
SUMMARY:PIR- NO SCHOOL
DESCRIPTION:TEACHERS PIR CONVENTION
URL:https://pryorwarriors.org/event/pir-no-school/
END:VEVENT
BEGIN:VEVENT
DTSTART;TZID=UTC:20241016T043000
DTEND;TZID=UTC:20241016T210000
DTSTAMP:20260423T114029
CREATED:20240903T175025Z
LAST-MODIFIED:20240903T175025Z
UID:1600-1729053000-1729112400@pryorwarriors.org
SUMMARY:JH/HS FOOTBALL
DESCRIPTION:@ LODGEGRASS \nJH 4:30 PM \nHS: 7 PM
URL:https://pryorwarriors.org/event/jh-hs-football-4/
END:VEVENT
BEGIN:VEVENT
DTSTART;TZID=UTC:20241011T190000
DTEND;TZID=UTC:20241011T210000
DTSTAMP:20260423T114029
CREATED:20240903T174951Z
LAST-MODIFIED:20240903T174951Z
UID:1598-1728673200-1728680400@pryorwarriors.org
SUMMARY:HS FOOTBALL
DESCRIPTION:@ FROMBERG \n7 PM
URL:https://pryorwarriors.org/event/hs-football-3/
END:VEVENT
BEGIN:VEVENT
DTSTART;VALUE=DATE:20241011
DTEND;VALUE=DATE:20241012
DTSTAMP:20260423T114029
CREATED:20240903T180630Z
LAST-MODIFIED:20240903T180630Z
UID:1642-1728604800-1728691199@pryorwarriors.org
SUMMARY:CLAN DAY
DESCRIPTION:
URL:https://pryorwarriors.org/event/clan-day/
END:VEVENT
BEGIN:VEVENT
DTSTART;TZID=UTC:20241009T170000
DTEND;TZID=UTC:20241009T210000
DTSTAMP:20260423T114029
CREATED:20240903T173224Z
LAST-MODIFIED:20240903T173224Z
UID:1560-1728493200-1728507600@pryorwarriors.org
SUMMARY:JH/HS VOLLEYBALL
DESCRIPTION:@ LODGE GRASS \nJH 5 PM \nHS 6:30 PM
URL:https://pryorwarriors.org/event/jh-hs-volleyball-6/
END:VEVENT
BEGIN:VEVENT
DTSTART;TZID=UTC:20241008T160000
DTEND;TZID=UTC:20241008T180000
DTSTAMP:20260423T114029
CREATED:20240903T173143Z
LAST-MODIFIED:20240903T173143Z
UID:1558-1728403200-1728410400@pryorwarriors.org
SUMMARY:JH VOLLEYBALL
DESCRIPTION:LAME DEER @ PCHS \nJH 4 PM
URL:https://pryorwarriors.org/event/jh-volleyball/
END:VEVENT
BEGIN:VEVENT
DTSTART;TZID=UTC:20241007T140000
DTEND;TZID=UTC:20241007T190000
DTSTAMP:20260423T114029
CREATED:20240903T174913Z
LAST-MODIFIED:20240903T174913Z
UID:1596-1728309600-1728327600@pryorwarriors.org
SUMMARY:JH/HS FOOTBALL
DESCRIPTION:@ PRYOR VS LAME DEER \nJH 2 PM \nHS 4:30 PM
URL:https://pryorwarriors.org/event/jh-hs-football-3/
END:VEVENT
BEGIN:VEVENT
DTSTART;VALUE=DATE:20241005
DTEND;VALUE=DATE:20241006
DTSTAMP:20260423T114029
CREATED:20240904T213639Z
LAST-MODIFIED:20240904T213639Z
UID:1662-1728086400-1728172799@pryorwarriors.org
SUMMARY:Crazy Mountain XC Run
DESCRIPTION:
URL:https://pryorwarriors.org/event/crazy-mountain-xc-run/
END:VEVENT
BEGIN:VEVENT
DTSTART;TZID=UTC:20241004T180000
DTEND;TZID=UTC:20241004T200000
DTSTAMP:20260423T114029
CREATED:20240903T174826Z
LAST-MODIFIED:20240903T174826Z
UID:1594-1728064800-1728072000@pryorwarriors.org
SUMMARY:HS FOOTBALL
DESCRIPTION:@ BUSBY \n6 PM
URL:https://pryorwarriors.org/event/hs-football-2/
END:VEVENT
BEGIN:VEVENT
DTSTART;TZID=UTC:20241003T160000
DTEND;TZID=UTC:20241003T200000
DTSTAMP:20260423T114029
CREATED:20240903T173057Z
LAST-MODIFIED:20240903T173057Z
UID:1556-1727971200-1727985600@pryorwarriors.org
SUMMARY:JH/HS VOLLEYBALL
DESCRIPTION:@ CUSTER \nJH 4 PM \nHS 5:15 PM
URL:https://pryorwarriors.org/event/jh-hs-volleyball-5/
END:VEVENT
BEGIN:VEVENT
DTSTART;VALUE=DATE:20241003
DTEND;VALUE=DATE:20241004
DTSTAMP:20260423T114029
CREATED:20240904T213618Z
LAST-MODIFIED:20240904T213618Z
UID:1660-1727913600-1727999999@pryorwarriors.org
SUMMARY:Pride Land XC Invitational
DESCRIPTION:
URL:https://pryorwarriors.org/event/pride-land-xc-invitational/
END:VEVENT
BEGIN:VEVENT
DTSTART;TZID=UTC:20241001T160000
DTEND;TZID=UTC:20241001T180000
DTSTAMP:20260423T114029
CREATED:20240903T174750Z
LAST-MODIFIED:20240903T174750Z
UID:1592-1727798400-1727805600@pryorwarriors.org
SUMMARY:JH FOOTBALL
DESCRIPTION:@ PECA \nJH 4 PM
URL:https://pryorwarriors.org/event/jh-football-4/
END:VEVENT
BEGIN:VEVENT
DTSTART;TZID=UTC:20240930T140000
DTEND;TZID=UTC:20240930T190000
DTSTAMP:20260423T114029
CREATED:20240903T174717Z
LAST-MODIFIED:20240903T174717Z
UID:1590-1727704800-1727722800@pryorwarriors.org
SUMMARY:JH/HS FOOTBALL
DESCRIPTION:@ PRYOR VS HAYS/LODGEPOLE \nJH 2 PM \nHS 4 PM
URL:https://pryorwarriors.org/event/jh-hs-football-2/
END:VEVENT
BEGIN:VEVENT
DTSTART;VALUE=DATE:20240927
DTEND;VALUE=DATE:20240928
DTSTAMP:20260423T114029
CREATED:20240904T213600Z
LAST-MODIFIED:20240904T213600Z
UID:1658-1727395200-1727481599@pryorwarriors.org
SUMMARY:Broadus XC Invitational
DESCRIPTION:
URL:https://pryorwarriors.org/event/broadus-xc-invitational/
END:VEVENT
BEGIN:VEVENT
DTSTART;VALUE=DATE:20240927
DTEND;VALUE=DATE:20240928
DTSTAMP:20260423T114029
CREATED:20240903T180807Z
LAST-MODIFIED:20240903T180807Z
UID:1644-1727395200-1727481599@pryorwarriors.org
SUMMARY:PARADE & POW-WOW
DESCRIPTION:
URL:https://pryorwarriors.org/event/parade-pow-wow/
END:VEVENT
BEGIN:VEVENT
DTSTART;VALUE=DATE:20240926
DTEND;VALUE=DATE:20240927
DTSTAMP:20260423T114029
CREATED:20240904T213543Z
LAST-MODIFIED:20240904T213543Z
UID:1656-1727308800-1727395199@pryorwarriors.org
SUMMARY:Colstrip XC Invitational
DESCRIPTION:
URL:https://pryorwarriors.org/event/colstrip-xc-invitational/
END:VEVENT
BEGIN:VEVENT
DTSTART;TZID=UTC:20240925T170000
DTEND;TZID=UTC:20240925T210000
DTSTAMP:20260423T114029
CREATED:20240903T172932Z
LAST-MODIFIED:20240903T172932Z
UID:1552-1727283600-1727298000@pryorwarriors.org
SUMMARY:JH/HS VOLLEYBALL
DESCRIPTION:LODGEGRASS @PCHS \nJH 5:00 PM \nHS 6:30 PM
URL:https://pryorwarriors.org/event/jh-hs-volleyball-3/
END:VEVENT
BEGIN:VEVENT
DTSTART;TZID=UTC:20240923T140000
DTEND;TZID=UTC:20240923T180000
DTSTAMP:20260423T114029
CREATED:20240906T192800Z
LAST-MODIFIED:20240906T192800Z
UID:1671-1727100000-1727114400@pryorwarriors.org
SUMMARY:RESCHEDULED FOOTBALL FROM 09/07/23
DESCRIPTION:@ PRYOR \nJH 2 PM \nHS 4 PM
URL:https://pryorwarriors.org/event/rescheduled-football-from-09-07-23/
END:VEVENT
END:VCALENDAR