BEGIN:VCALENDAR
VERSION:2.0
PRODID:-//Pryor Public Schools, Pryor Montana - ECPv6.15.20//NONSGML v1.0//EN
CALSCALE:GREGORIAN
METHOD:PUBLISH
X-ORIGINAL-URL:https://pryorwarriors.org
X-WR-CALDESC:Events for Pryor Public Schools, Pryor Montana
REFRESH-INTERVAL;VALUE=DURATION:PT1H
X-Robots-Tag:noindex
X-PUBLISHED-TTL:PT1H
BEGIN:VTIMEZONE
TZID:UTC
BEGIN:STANDARD
TZOFFSETFROM:+0000
TZOFFSETTO:+0000
TZNAME:UTC
DTSTART:20250101T000000
END:STANDARD
END:VTIMEZONE
BEGIN:VEVENT
DTSTART;TZID=UTC:20260506T160000
DTEND;TZID=UTC:20260506T170000
DTSTAMP:20260422T112436
CREATED:20250929T180946Z
LAST-MODIFIED:20250929T180946Z
UID:2653-1778083200-1778086800@pryorwarriors.org
SUMMARY:PARENT SURVEY & ENGAGMENT POLICY REVIEW
DESCRIPTION:
URL:https://pryorwarriors.org/event/parent-survey-engagment-policy-review/
END:VEVENT
END:VCALENDAR