BEGIN:VCALENDAR
VERSION:2.0
PRODID:-//Pryor Public Schools, Pryor Montana - ECPv6.15.20//NONSGML v1.0//EN
CALSCALE:GREGORIAN
METHOD:PUBLISH
X-WR-CALNAME:Pryor Public Schools, Pryor Montana
X-ORIGINAL-URL:https://pryorwarriors.org
X-WR-CALDESC:Events for Pryor Public Schools, Pryor Montana
REFRESH-INTERVAL;VALUE=DURATION:PT1H
X-Robots-Tag:noindex
X-PUBLISHED-TTL:PT1H
BEGIN:VTIMEZONE
TZID:UTC
BEGIN:STANDARD
TZOFFSETFROM:+0000
TZOFFSETTO:+0000
TZNAME:UTC
DTSTART:20250101T000000
END:STANDARD
END:VTIMEZONE
BEGIN:VEVENT
DTSTART;VALUE=DATE:20260311
DTEND;VALUE=DATE:20260315
DTSTAMP:20260422T113002
CREATED:20251121T202444Z
LAST-MODIFIED:20251121T202444Z
UID:2810-1773187200-1773532799@pryorwarriors.org
SUMMARY:HS BB STATE C TOURNAMENT - MISSOULA MT
DESCRIPTION:
URL:https://pryorwarriors.org/event/hs-bb-state-c-tournament-missoula-mt/
END:VEVENT
END:VCALENDAR