BEGIN:VCALENDAR
VERSION:2.0
PRODID:-//Pryor Public Schools, Pryor Montana - ECPv6.15.20//NONSGML v1.0//EN
CALSCALE:GREGORIAN
METHOD:PUBLISH
X-ORIGINAL-URL:https://pryorwarriors.org
X-WR-CALDESC:Events for Pryor Public Schools, Pryor Montana
REFRESH-INTERVAL;VALUE=DURATION:PT1H
X-Robots-Tag:noindex
X-PUBLISHED-TTL:PT1H
BEGIN:VTIMEZONE
TZID:UTC
BEGIN:STANDARD
TZOFFSETFROM:+0000
TZOFFSETTO:+0000
TZNAME:UTC
DTSTART:20250101T000000
END:STANDARD
END:VTIMEZONE
BEGIN:VEVENT
DTSTART;VALUE=DATE:20260225
DTEND;VALUE=DATE:20260301
DTSTAMP:20260422T113612
CREATED:20251121T202415Z
LAST-MODIFIED:20251121T202415Z
UID:2808-1771977600-1772323199@pryorwarriors.org
SUMMARY:HS BB SOUTHERN C DIVISIONAL- LEWISTOWN MT
DESCRIPTION:
URL:https://pryorwarriors.org/event/hs-bb-southern-c-divisional-lewistown-mt/
END:VEVENT
BEGIN:VEVENT
DTSTART;TZID=UTC:20260225T160000
DTEND;TZID=UTC:20260225T180000
DTSTAMP:20260422T113612
CREATED:20251103T150431Z
LAST-MODIFIED:20251103T150431Z
UID:2734-1772035200-1772042400@pryorwarriors.org
SUMMARY:JH BOYS BB @ ST. CHARLES
DESCRIPTION:B SQUAD 4 PM/ A SQUAD 5 PM
URL:https://pryorwarriors.org/event/jh-boys-bb-st-charles/
END:VEVENT
END:VCALENDAR