BEGIN:VCALENDAR
VERSION:2.0
PRODID:-//Pryor Public Schools, Pryor Montana - ECPv6.15.20//NONSGML v1.0//EN
CALSCALE:GREGORIAN
METHOD:PUBLISH
X-ORIGINAL-URL:https://pryorwarriors.org
X-WR-CALDESC:Events for Pryor Public Schools, Pryor Montana
REFRESH-INTERVAL;VALUE=DURATION:PT1H
X-Robots-Tag:noindex
X-PUBLISHED-TTL:PT1H
BEGIN:VTIMEZONE
TZID:UTC
BEGIN:STANDARD
TZOFFSETFROM:+0000
TZOFFSETTO:+0000
TZNAME:UTC
DTSTART:20250101T000000
END:STANDARD
END:VTIMEZONE
BEGIN:VEVENT
DTSTART;VALUE=DATE:20260218
DTEND;VALUE=DATE:20260222
DTSTAMP:20260422T131053
CREATED:20251121T202334Z
LAST-MODIFIED:20251121T202334Z
UID:2806-1771372800-1771718399@pryorwarriors.org
SUMMARY:HS BB 6C DISTRICT TOURNAMENTS - LAUREL MT
DESCRIPTION:
URL:https://pryorwarriors.org/event/hs-bb-6c-district-tournaments-laurel-mt/
END:VEVENT
END:VCALENDAR