BEGIN:VCALENDAR
VERSION:2.0
PRODID:-//Pryor Public Schools, Pryor Montana - ECPv6.15.20//NONSGML v1.0//EN
CALSCALE:GREGORIAN
METHOD:PUBLISH
X-ORIGINAL-URL:https://pryorwarriors.org
X-WR-CALDESC:Events for Pryor Public Schools, Pryor Montana
REFRESH-INTERVAL;VALUE=DURATION:PT1H
X-Robots-Tag:noindex
X-PUBLISHED-TTL:PT1H
BEGIN:VTIMEZONE
TZID:UTC
BEGIN:STANDARD
TZOFFSETFROM:+0000
TZOFFSETTO:+0000
TZNAME:UTC
DTSTART:20250101T000000
END:STANDARD
END:VTIMEZONE
BEGIN:VEVENT
DTSTART;VALUE=DATE:20260216
DTEND;VALUE=DATE:20260217
DTSTAMP:20260422T131134
CREATED:20250529T180533Z
LAST-MODIFIED:20250529T180533Z
UID:2270-1771200000-1771286399@pryorwarriors.org
SUMMARY:Presidents Day- No School
DESCRIPTION:
URL:https://pryorwarriors.org/event/presidents-day-no-school/
END:VEVENT
BEGIN:VEVENT
DTSTART;TZID=UTC:20260216T160000
DTEND;TZID=UTC:20260216T180000
DTSTAMP:20260422T131134
CREATED:20251103T150305Z
LAST-MODIFIED:20251103T150305Z
UID:2730-1771257600-1771264800@pryorwarriors.org
SUMMARY:JH Boys BB @ LODGE GRASS
DESCRIPTION:B SQUAD 4 PM/ A SQUAD 5 PM
URL:https://pryorwarriors.org/event/jh-boys-bb-lodge-grass/
END:VEVENT
END:VCALENDAR