BEGIN:VCALENDAR
VERSION:2.0
PRODID:-//Pryor Public Schools, Pryor Montana - ECPv6.15.20//NONSGML v1.0//EN
CALSCALE:GREGORIAN
METHOD:PUBLISH
X-ORIGINAL-URL:https://pryorwarriors.org
X-WR-CALDESC:Events for Pryor Public Schools, Pryor Montana
REFRESH-INTERVAL;VALUE=DURATION:PT1H
X-Robots-Tag:noindex
X-PUBLISHED-TTL:PT1H
BEGIN:VTIMEZONE
TZID:UTC
BEGIN:STANDARD
TZOFFSETFROM:+0000
TZOFFSETTO:+0000
TZNAME:UTC
DTSTART:20250101T000000
END:STANDARD
END:VTIMEZONE
BEGIN:VEVENT
DTSTART;VALUE=DATE:20260213
DTEND;VALUE=DATE:20260214
DTSTAMP:20260422T131134
CREATED:20250529T173832Z
LAST-MODIFIED:20250529T173832Z
UID:2230-1770940800-1771027199@pryorwarriors.org
SUMMARY:No School
DESCRIPTION:
URL:https://pryorwarriors.org/event/no-school-27/
END:VEVENT
BEGIN:VEVENT
DTSTART;TZID=UTC:20260213T150000
DTEND;TZID=UTC:20260213T213000
DTSTAMP:20260422T131134
CREATED:20251121T202109Z
LAST-MODIFIED:20251121T202109Z
UID:2802-1770994800-1771018200@pryorwarriors.org
SUMMARY:HS BB @ BRIDGER
DESCRIPTION:JVB\, JVG\, VB\, VG \n3:00\, 4:30\, 6:00\, 7:30
URL:https://pryorwarriors.org/event/hs-bb-bridger/
END:VEVENT
END:VCALENDAR