BEGIN:VCALENDAR
VERSION:2.0
PRODID:-//Pryor Public Schools, Pryor Montana - ECPv6.15.20//NONSGML v1.0//EN
CALSCALE:GREGORIAN
METHOD:PUBLISH
X-WR-CALNAME:Pryor Public Schools, Pryor Montana
X-ORIGINAL-URL:https://pryorwarriors.org
X-WR-CALDESC:Events for Pryor Public Schools, Pryor Montana
REFRESH-INTERVAL;VALUE=DURATION:PT1H
X-Robots-Tag:noindex
X-PUBLISHED-TTL:PT1H
BEGIN:VTIMEZONE
TZID:UTC
BEGIN:STANDARD
TZOFFSETFROM:+0000
TZOFFSETTO:+0000
TZNAME:UTC
DTSTART:20250101T000000
END:STANDARD
END:VTIMEZONE
BEGIN:VEVENT
DTSTART;TZID=UTC:20260202T160000
DTEND;TZID=UTC:20260202T180000
DTSTAMP:20260422T130826
CREATED:20251103T145852Z
LAST-MODIFIED:20251103T145852Z
UID:2722-1770048000-1770055200@pryorwarriors.org
SUMMARY:JH Boys BB @ LAME DEER
DESCRIPTION:B SQUAD 4 PM/ A SQUAD 5 PM
URL:https://pryorwarriors.org/event/jh-boys-bb-lame-deer/
END:VEVENT
END:VCALENDAR