BEGIN:VCALENDAR
VERSION:2.0
PRODID:-//Pryor Public Schools, Pryor Montana - ECPv6.15.20//NONSGML v1.0//EN
CALSCALE:GREGORIAN
METHOD:PUBLISH
X-ORIGINAL-URL:https://pryorwarriors.org
X-WR-CALDESC:Events for Pryor Public Schools, Pryor Montana
REFRESH-INTERVAL;VALUE=DURATION:PT1H
X-Robots-Tag:noindex
X-PUBLISHED-TTL:PT1H
BEGIN:VTIMEZONE
TZID:UTC
BEGIN:STANDARD
TZOFFSETFROM:+0000
TZOFFSETTO:+0000
TZNAME:UTC
DTSTART:20250101T000000
END:STANDARD
END:VTIMEZONE
BEGIN:VEVENT
DTSTART;TZID=UTC:20260110T140000
DTEND;TZID=UTC:20260110T160000
DTSTAMP:20260422T143332
CREATED:20251121T193247Z
LAST-MODIFIED:20251121T193247Z
UID:2786-1768053600-1768060800@pryorwarriors.org
SUMMARY:JVG HS BB VS BILLINGS CHRISTIAN @ PRYOR
DESCRIPTION:JVG- 2 PM
URL:https://pryorwarriors.org/event/jvg-hs-bb-vs-billings-christian-pryor/
END:VEVENT
END:VCALENDAR