BEGIN:VCALENDAR
VERSION:2.0
PRODID:-//Pryor Public Schools, Pryor Montana - ECPv6.15.20//NONSGML v1.0//EN
CALSCALE:GREGORIAN
METHOD:PUBLISH
X-WR-CALNAME:Pryor Public Schools, Pryor Montana
X-ORIGINAL-URL:https://pryorwarriors.org
X-WR-CALDESC:Events for Pryor Public Schools, Pryor Montana
REFRESH-INTERVAL;VALUE=DURATION:PT1H
X-Robots-Tag:noindex
X-PUBLISHED-TTL:PT1H
BEGIN:VTIMEZONE
TZID:UTC
BEGIN:STANDARD
TZOFFSETFROM:+0000
TZOFFSETTO:+0000
TZNAME:UTC
DTSTART:20250101T000000
END:STANDARD
END:VTIMEZONE
BEGIN:VEVENT
DTSTART;VALUE=DATE:20260108
DTEND;VALUE=DATE:20260109
DTSTAMP:20260422T143132
CREATED:20250529T183515Z
LAST-MODIFIED:20250529T183515Z
UID:2280-1767830400-1767916799@pryorwarriors.org
SUMMARY:End of 2nd Quarter
DESCRIPTION:
URL:https://pryorwarriors.org/event/end-of-2nd-quarter/
END:VEVENT
BEGIN:VEVENT
DTSTART;TZID=UTC:20260108T150000
DTEND;TZID=UTC:20260108T210000
DTSTAMP:20260422T143132
CREATED:20251121T193143Z
LAST-MODIFIED:20251121T193143Z
UID:2784-1767884400-1767906000@pryorwarriors.org
SUMMARY:HS BB VS PARK CITY @ HOME
DESCRIPTION:JVG\, JVB\, VG\, VB \n3:00\, 4:30\, 6:00\, 7:30
URL:https://pryorwarriors.org/event/hs-bb-vs-park-city-home/
END:VEVENT
END:VCALENDAR