BEGIN:VCALENDAR
VERSION:2.0
PRODID:-//Pryor Public Schools, Pryor Montana - ECPv6.15.20//NONSGML v1.0//EN
CALSCALE:GREGORIAN
METHOD:PUBLISH
X-WR-CALNAME:Pryor Public Schools, Pryor Montana
X-ORIGINAL-URL:https://pryorwarriors.org
X-WR-CALDESC:Events for Pryor Public Schools, Pryor Montana
REFRESH-INTERVAL;VALUE=DURATION:PT1H
X-Robots-Tag:noindex
X-PUBLISHED-TTL:PT1H
BEGIN:VTIMEZONE
TZID:UTC
BEGIN:STANDARD
TZOFFSETFROM:+0000
TZOFFSETTO:+0000
TZNAME:UTC
DTSTART:20240101T000000
END:STANDARD
END:VTIMEZONE
BEGIN:VEVENT
DTSTART;VALUE=DATE:20251222
DTEND;VALUE=DATE:20260103
DTSTAMP:20260422T143144
CREATED:20250529T173624Z
LAST-MODIFIED:20250529T173624Z
UID:2218-1766361600-1767398399@pryorwarriors.org
SUMMARY:Winter Break- NO School
DESCRIPTION:
URL:https://pryorwarriors.org/event/winter-break-no-school/
END:VEVENT
BEGIN:VEVENT
DTSTART;TZID=UTC:20260102T140000
DTEND;TZID=UTC:20260102T200000
DTSTAMP:20260422T143144
CREATED:20251121T192506Z
LAST-MODIFIED:20251121T192506Z
UID:2780-1767362400-1767384000@pryorwarriors.org
SUMMARY:HS BB @ CUSTER\, MT
DESCRIPTION:JVG\, JVB\, VG\, VB \n2:00\, 3:30\, 5:00\, 6:30
URL:https://pryorwarriors.org/event/hs-bb-custer-mt/
END:VEVENT
BEGIN:VEVENT
DTSTART;TZID=UTC:20260102T160000
DTEND;TZID=UTC:20260102T180000
DTSTAMP:20260422T143144
CREATED:20251031T200500Z
LAST-MODIFIED:20251031T200501Z
UID:2714-1767369600-1767376800@pryorwarriors.org
SUMMARY:JH GIRLS BB @ PRYOR VS WYOLA
DESCRIPTION:B SQUAD 4 PM/ A SQUAD 5 PM
URL:https://pryorwarriors.org/event/jh-girls-bb-pryor-vs-wyola/
END:VEVENT
END:VCALENDAR