BEGIN:VCALENDAR
VERSION:2.0
PRODID:-//Pryor Public Schools, Pryor Montana - ECPv6.15.20//NONSGML v1.0//EN
CALSCALE:GREGORIAN
METHOD:PUBLISH
X-WR-CALNAME:Pryor Public Schools, Pryor Montana
X-ORIGINAL-URL:https://pryorwarriors.org
X-WR-CALDESC:Events for Pryor Public Schools, Pryor Montana
REFRESH-INTERVAL;VALUE=DURATION:PT1H
X-Robots-Tag:noindex
X-PUBLISHED-TTL:PT1H
BEGIN:VTIMEZONE
TZID:UTC
BEGIN:STANDARD
TZOFFSETFROM:+0000
TZOFFSETTO:+0000
TZNAME:UTC
DTSTART:20240101T000000
END:STANDARD
END:VTIMEZONE
BEGIN:VEVENT
DTSTART;TZID=UTC:20251220T123000
DTEND;TZID=UTC:20251220T200000
DTSTAMP:20260422T154337
CREATED:20251121T192124Z
LAST-MODIFIED:20251121T192124Z
UID:2778-1766233800-1766260800@pryorwarriors.org
SUMMARY:HS BB VS FORSYTH @ HOME
DESCRIPTION:JVG\, JVB\, VG\, VB \n12:30\, 2:00\, 3:30\, 5:00
URL:https://pryorwarriors.org/event/hs-bb-vs-forsyth-home/
END:VEVENT
END:VCALENDAR