BEGIN:VCALENDAR
VERSION:2.0
PRODID:-//Pryor Public Schools, Pryor Montana - ECPv6.15.20//NONSGML v1.0//EN
CALSCALE:GREGORIAN
METHOD:PUBLISH
X-WR-CALNAME:Pryor Public Schools, Pryor Montana
X-ORIGINAL-URL:https://pryorwarriors.org
X-WR-CALDESC:Events for Pryor Public Schools, Pryor Montana
REFRESH-INTERVAL;VALUE=DURATION:PT1H
X-Robots-Tag:noindex
X-PUBLISHED-TTL:PT1H
BEGIN:VTIMEZONE
TZID:UTC
BEGIN:STANDARD
TZOFFSETFROM:+0000
TZOFFSETTO:+0000
TZNAME:UTC
DTSTART:20240101T000000
END:STANDARD
END:VTIMEZONE
BEGIN:VEVENT
DTSTART;TZID=UTC:20251219T091500
DTEND;TZID=UTC:20251219T100000
DTSTAMP:20260422T154336
CREATED:20251215T194743Z
LAST-MODIFIED:20251215T194743Z
UID:2834-1766135700-1766138400@pryorwarriors.org
SUMMARY:JH/HS Project based Learning Presentation
DESCRIPTION:
URL:https://pryorwarriors.org/event/jh-hs-project-based-learning-presentation/
END:VEVENT
BEGIN:VEVENT
DTSTART;TZID=UTC:20251219T100000
DTEND;TZID=UTC:20251219T110000
DTSTAMP:20260422T154336
CREATED:20251201T173135Z
LAST-MODIFIED:20251201T173135Z
UID:2813-1766138400-1766142000@pryorwarriors.org
SUMMARY:K-6 Elementary Christmas Concert
DESCRIPTION:
URL:https://pryorwarriors.org/event/k-6-elementary-christmas-concert/
END:VEVENT
END:VCALENDAR