BEGIN:VCALENDAR
VERSION:2.0
PRODID:-//Pryor Public Schools, Pryor Montana - ECPv6.15.20//NONSGML v1.0//EN
CALSCALE:GREGORIAN
METHOD:PUBLISH
X-WR-CALNAME:Pryor Public Schools, Pryor Montana
X-ORIGINAL-URL:https://pryorwarriors.org
X-WR-CALDESC:Events for Pryor Public Schools, Pryor Montana
REFRESH-INTERVAL;VALUE=DURATION:PT1H
X-Robots-Tag:noindex
X-PUBLISHED-TTL:PT1H
BEGIN:VTIMEZONE
TZID:UTC
BEGIN:STANDARD
TZOFFSETFROM:+0000
TZOFFSETTO:+0000
TZNAME:UTC
DTSTART:20240101T000000
END:STANDARD
END:VTIMEZONE
BEGIN:VEVENT
DTSTART;TZID=UTC:20251216T183000
DTEND;TZID=UTC:20251216T220000
DTSTAMP:20260422T154337
CREATED:20251121T191443Z
LAST-MODIFIED:20251121T191443Z
UID:2774-1765909800-1765922400@pryorwarriors.org
SUMMARY:HS BB @ HARDIN
DESCRIPTION:JVG\, JVB \n6:30PM/8:00 PM
URL:https://pryorwarriors.org/event/hs-bb-hardin/
END:VEVENT
END:VCALENDAR