BEGIN:VCALENDAR
VERSION:2.0
PRODID:-//Pryor Public Schools, Pryor Montana - ECPv6.15.20//NONSGML v1.0//EN
CALSCALE:GREGORIAN
METHOD:PUBLISH
X-WR-CALNAME:Pryor Public Schools, Pryor Montana
X-ORIGINAL-URL:https://pryorwarriors.org
X-WR-CALDESC:Events for Pryor Public Schools, Pryor Montana
REFRESH-INTERVAL;VALUE=DURATION:PT1H
X-Robots-Tag:noindex
X-PUBLISHED-TTL:PT1H
BEGIN:VTIMEZONE
TZID:UTC
BEGIN:STANDARD
TZOFFSETFROM:+0000
TZOFFSETTO:+0000
TZNAME:UTC
DTSTART:20240101T000000
END:STANDARD
END:VTIMEZONE
BEGIN:VEVENT
DTSTART;TZID=UTC:20251202T170000
DTEND;TZID=UTC:20251202T180000
DTSTAMP:20260422T154341
CREATED:20251031T195933Z
LAST-MODIFIED:20251031T195933Z
UID:2700-1764694800-1764698400@pryorwarriors.org
SUMMARY:JH GIRLS BB @ HOME VS NCTS (BUSBY)
DESCRIPTION:NO B SQUAD
URL:https://pryorwarriors.org/event/jh-girls-bb-home-vs-ncts-busby/
END:VEVENT
END:VCALENDAR