BEGIN:VCALENDAR
VERSION:2.0
PRODID:-//Pryor Public Schools, Pryor Montana - ECPv6.15.20//NONSGML v1.0//EN
CALSCALE:GREGORIAN
METHOD:PUBLISH
X-ORIGINAL-URL:https://pryorwarriors.org
X-WR-CALDESC:Events for Pryor Public Schools, Pryor Montana
REFRESH-INTERVAL;VALUE=DURATION:PT1H
X-Robots-Tag:noindex
X-PUBLISHED-TTL:PT1H
BEGIN:VTIMEZONE
TZID:UTC
BEGIN:STANDARD
TZOFFSETFROM:+0000
TZOFFSETTO:+0000
TZNAME:UTC
DTSTART:20240101T000000
END:STANDARD
END:VTIMEZONE
BEGIN:VEVENT
DTSTART;VALUE=DATE:20251029
DTEND;VALUE=DATE:20251030
DTSTAMP:20260422T165745
CREATED:20250903T161800Z
LAST-MODIFIED:20250903T162118Z
UID:2475-1761696000-1761782399@pryorwarriors.org
SUMMARY:K-12 PICTURE DAY
DESCRIPTION:
URL:https://pryorwarriors.org/event/k-12-picture-day/
END:VEVENT
BEGIN:VEVENT
DTSTART;TZID=UTC:20251029T150000
DTEND;TZID=UTC:20251029T170000
DTSTAMP:20260422T165746
CREATED:20250529T173511Z
LAST-MODIFIED:20250529T173511Z
UID:2214-1761750000-1761757200@pryorwarriors.org
SUMMARY:PARENT TEACHER CONFERENCES
DESCRIPTION:
URL:https://pryorwarriors.org/event/parent-teacher-conferences-4/
END:VEVENT
BEGIN:VEVENT
DTSTART;TZID=UTC:20251029T150000
DTEND;TZID=UTC:20251029T190000
DTSTAMP:20260422T165746
CREATED:20251028T183233Z
LAST-MODIFIED:20251028T183233Z
UID:2690-1761750000-1761764400@pryorwarriors.org
SUMMARY:JH GIRLS/BOYS BASKETBALL @ HOME VS  PARK CITY
DESCRIPTION:3PM\, 4PM\, 5PM\, 6PM
URL:https://pryorwarriors.org/event/jh-girls-boys-basketball-home-vs-park-city/
END:VEVENT
BEGIN:VEVENT
DTSTART;TZID=UTC:20251029T163000
DTEND;TZID=UTC:20251029T180000
DTSTAMP:20260422T165746
CREATED:20250919T162513Z
LAST-MODIFIED:20251020T140644Z
UID:2637-1761755400-1761760800@pryorwarriors.org
SUMMARY:CANCELLED- DATE TBD MATH & READING NIGHT
DESCRIPTION:TITLE 1 SCHOOLWIDE COMMUNITY EVENT
URL:https://pryorwarriors.org/event/math-reading-night/
END:VEVENT
END:VCALENDAR