BEGIN:VCALENDAR
VERSION:2.0
PRODID:-//Pryor Public Schools, Pryor Montana - ECPv6.15.20//NONSGML v1.0//EN
CALSCALE:GREGORIAN
METHOD:PUBLISH
X-WR-CALNAME:Pryor Public Schools, Pryor Montana
X-ORIGINAL-URL:https://pryorwarriors.org
X-WR-CALDESC:Events for Pryor Public Schools, Pryor Montana
REFRESH-INTERVAL;VALUE=DURATION:PT1H
X-Robots-Tag:noindex
X-PUBLISHED-TTL:PT1H
BEGIN:VTIMEZONE
TZID:UTC
BEGIN:STANDARD
TZOFFSETFROM:+0000
TZOFFSETTO:+0000
TZNAME:UTC
DTSTART:20240101T000000
END:STANDARD
END:VTIMEZONE
BEGIN:VEVENT
DTSTART;TZID=UTC:20251001T160000
DTEND;TZID=UTC:20251001T170000
DTSTAMP:20260422T180947
CREATED:20250904T201401Z
LAST-MODIFIED:20250904T201401Z
UID:2503-1759334400-1759338000@pryorwarriors.org
SUMMARY:Volleyball - JH  @ Lame Deer
DESCRIPTION:
URL:https://pryorwarriors.org/event/volleyball-jh-lame-deer/
END:VEVENT
BEGIN:VEVENT
DTSTART;TZID=UTC:20251001T170000
DTEND;TZID=UTC:20251001T190000
DTSTAMP:20260422T180947
CREATED:20250826T163810Z
LAST-MODIFIED:20250826T163810Z
UID:2451-1759338000-1759345200@pryorwarriors.org
SUMMARY:Volleyball  Northern Cheyenne(V) @PlentyCoups H.S.
DESCRIPTION:5pm
URL:https://pryorwarriors.org/event/volleyball-northern-cheyennev-plentycoups-h-s/
END:VEVENT
BEGIN:VEVENT
DTSTART;TZID=UTC:20251001T170000
DTEND;TZID=UTC:20251001T190000
DTSTAMP:20260422T180947
CREATED:20250911T194517Z
LAST-MODIFIED:20250911T194517Z
UID:2530-1759338000-1759345200@pryorwarriors.org
SUMMARY:JH VOLLEYBALL @ HOME VS LAMEDEER
DESCRIPTION:
URL:https://pryorwarriors.org/event/jh-volleyball-home-vs-lamedeer/
END:VEVENT
END:VCALENDAR