BEGIN:VCALENDAR
VERSION:2.0
PRODID:-//Pryor Public Schools, Pryor Montana - ECPv6.15.20//NONSGML v1.0//EN
CALSCALE:GREGORIAN
METHOD:PUBLISH
X-WR-CALNAME:Pryor Public Schools, Pryor Montana
X-ORIGINAL-URL:https://pryorwarriors.org
X-WR-CALDESC:Events for Pryor Public Schools, Pryor Montana
REFRESH-INTERVAL;VALUE=DURATION:PT1H
X-Robots-Tag:noindex
X-PUBLISHED-TTL:PT1H
BEGIN:VTIMEZONE
TZID:UTC
BEGIN:STANDARD
TZOFFSETFROM:+0000
TZOFFSETTO:+0000
TZNAME:UTC
DTSTART:20240101T000000
END:STANDARD
END:VTIMEZONE
BEGIN:VEVENT
DTSTART;VALUE=DATE:20250927
DTEND;VALUE=DATE:20250928
DTSTAMP:20260422T192017
CREATED:20250903T193723Z
LAST-MODIFIED:20250903T193723Z
UID:2497-1758931200-1759017599@pryorwarriors.org
SUMMARY:FLAG FOOTBALL- “C” SEEDING (DOUBLE ELIMINATION) @ABSAROKEE
DESCRIPTION:
URL:https://pryorwarriors.org/event/flag-football-c-seeding-double-elimination-absarokee/
END:VEVENT
BEGIN:VEVENT
DTSTART;TZID=UTC:20250927T100000
DTEND;TZID=UTC:20250927T140000
DTSTAMP:20260422T192017
CREATED:20250826T163738Z
LAST-MODIFIED:20250908T150633Z
UID:2449-1758967200-1758981600@pryorwarriors.org
SUMMARY:Volleyball Roberts (JV)(V) @Roberts
DESCRIPTION:10am
URL:https://pryorwarriors.org/event/volleyball-roberts-jvv-roberts/
END:VEVENT
END:VCALENDAR