BEGIN:VCALENDAR
VERSION:2.0
PRODID:-//Pryor Public Schools, Pryor Montana - ECPv6.15.20//NONSGML v1.0//EN
CALSCALE:GREGORIAN
METHOD:PUBLISH
X-ORIGINAL-URL:https://pryorwarriors.org
X-WR-CALDESC:Events for Pryor Public Schools, Pryor Montana
REFRESH-INTERVAL;VALUE=DURATION:PT1H
X-Robots-Tag:noindex
X-PUBLISHED-TTL:PT1H
BEGIN:VTIMEZONE
TZID:UTC
BEGIN:STANDARD
TZOFFSETFROM:+0000
TZOFFSETTO:+0000
TZNAME:UTC
DTSTART:20240101T000000
END:STANDARD
END:VTIMEZONE
BEGIN:VEVENT
DTSTART;TZID=UTC:20250911T163000
DTEND;TZID=UTC:20250911T173000
DTSTAMP:20260422T192158
CREATED:20250903T210949Z
LAST-MODIFIED:20250903T210949Z
UID:2499-1757608200-1757611800@pryorwarriors.org
SUMMARY:SENIOR PARENT MEETING
DESCRIPTION:Please come and discuss graduation details and responsibilities.
URL:https://pryorwarriors.org/event/senior-parent-meeting/
END:VEVENT
END:VCALENDAR