BEGIN:VCALENDAR
VERSION:2.0
PRODID:-//Pryor Public Schools, Pryor Montana - ECPv6.15.20//NONSGML v1.0//EN
CALSCALE:GREGORIAN
METHOD:PUBLISH
X-ORIGINAL-URL:https://pryorwarriors.org
X-WR-CALDESC:Events for Pryor Public Schools, Pryor Montana
REFRESH-INTERVAL;VALUE=DURATION:PT1H
X-Robots-Tag:noindex
X-PUBLISHED-TTL:PT1H
BEGIN:VTIMEZONE
TZID:UTC
BEGIN:STANDARD
TZOFFSETFROM:+0000
TZOFFSETTO:+0000
TZNAME:UTC
DTSTART:20240101T000000
END:STANDARD
END:VTIMEZONE
BEGIN:VEVENT
DTSTART;VALUE=DATE:20250909
DTEND;VALUE=DATE:20250911
DTSTAMP:20260422T192209
CREATED:20250903T170728Z
LAST-MODIFIED:20250903T171118Z
UID:2488-1757376000-1757548799@pryorwarriors.org
SUMMARY:OSHA TRAINING - STUDENTS
DESCRIPTION:
URL:https://pryorwarriors.org/event/osha-training-students/
END:VEVENT
BEGIN:VEVENT
DTSTART;TZID=UTC:20250909T100000
DTEND;TZID=UTC:20250909T140000
DTSTAMP:20260422T192209
CREATED:20250819T180948Z
LAST-MODIFIED:20250826T164616Z
UID:2405-1757412000-1757426400@pryorwarriors.org
SUMMARY:XC Roundup invite ( Pine ridge Golf Course)
DESCRIPTION:
URL:https://pryorwarriors.org/event/xc-roundup-invite-pine-ridge-golf-course/
END:VEVENT
END:VCALENDAR