BEGIN:VCALENDAR
VERSION:2.0
PRODID:-//Pryor Public Schools, Pryor Montana - ECPv6.15.20//NONSGML v1.0//EN
CALSCALE:GREGORIAN
METHOD:PUBLISH
X-WR-CALNAME:Pryor Public Schools, Pryor Montana
X-ORIGINAL-URL:https://pryorwarriors.org
X-WR-CALDESC:Events for Pryor Public Schools, Pryor Montana
REFRESH-INTERVAL;VALUE=DURATION:PT1H
X-Robots-Tag:noindex
X-PUBLISHED-TTL:PT1H
BEGIN:VTIMEZONE
TZID:UTC
BEGIN:STANDARD
TZOFFSETFROM:+0000
TZOFFSETTO:+0000
TZNAME:UTC
DTSTART:20240101T000000
END:STANDARD
END:VTIMEZONE
BEGIN:VEVENT
DTSTART;TZID=UTC:20250527T110000
DTEND;TZID=UTC:20250527T120000
DTSTAMP:20260422T225434
CREATED:20250428T153327Z
LAST-MODIFIED:20250428T154246Z
UID:2042-1748343600-1748347200@pryorwarriors.org
SUMMARY:8th Grade Graduation
DESCRIPTION:
URL:https://pryorwarriors.org/event/8th-grade-graduation/
END:VEVENT
END:VCALENDAR